BEGIN:VCALENDAR
VERSION:2.0
PRODID:-//Discover South Kesteven - ECPv6.15.11//NONSGML v1.0//EN
CALSCALE:GREGORIAN
METHOD:PUBLISH
X-WR-CALNAME:Discover South Kesteven
X-ORIGINAL-URL:https://www.discoversouthkesteven.com
X-WR-CALDESC:Events for Discover South Kesteven
REFRESH-INTERVAL;VALUE=DURATION:PT1H
X-Robots-Tag:noindex
X-PUBLISHED-TTL:PT1H
BEGIN:VTIMEZONE
TZID:Europe/London
BEGIN:DAYLIGHT
TZOFFSETFROM:+0000
TZOFFSETTO:+0100
TZNAME:BST
DTSTART:20240331T010000
END:DAYLIGHT
BEGIN:STANDARD
TZOFFSETFROM:+0100
TZOFFSETTO:+0000
TZNAME:GMT
DTSTART:20241027T010000
END:STANDARD
BEGIN:DAYLIGHT
TZOFFSETFROM:+0000
TZOFFSETTO:+0100
TZNAME:BST
DTSTART:20250330T010000
END:DAYLIGHT
BEGIN:STANDARD
TZOFFSETFROM:+0100
TZOFFSETTO:+0000
TZNAME:GMT
DTSTART:20251026T010000
END:STANDARD
BEGIN:DAYLIGHT
TZOFFSETFROM:+0000
TZOFFSETTO:+0100
TZNAME:BST
DTSTART:20260329T010000
END:DAYLIGHT
BEGIN:STANDARD
TZOFFSETFROM:+0100
TZOFFSETTO:+0000
TZNAME:GMT
DTSTART:20261025T010000
END:STANDARD
END:VTIMEZONE
BEGIN:VEVENT
DTSTART;TZID=Europe/London:20251017T100000
DTEND;TZID=Europe/London:20251017T170000
DTSTAMP:20260426T033729
CREATED:20250910T135159Z
LAST-MODIFIED:20250910T135159Z
UID:10003001-1760695200-1760720400@www.discoversouthkesteven.com
SUMMARY:Big Tree Climbing
DESCRIPTION:Using ropes and harnesses\, ascend into the canopy of one of Belton Estate’s largest trees with The Great Big Tree Climbing Company\, and enjoy an exhilarating adventure at new heights. \nDuring your climb\, you will learn how to safely reach the top of the giant tree and take in the views of the parkland. You can hang out in the canopy or venture further out onto the branches if you’re feeling brave\, before returning safely to the ground. \nThis activity is suitable for ages 6 to 100\, and each session is run for up to 8 people\, creating a unique and intimate experience.
URL:https://www.discoversouthkesteven.com/event/big-tree-climbing/2025-10-17/
LOCATION:Belton House\, Belton House\, High Road\, Belton\, Grantham\, Lincolnshire\, NG32 2LW\, United Kingdom
CATEGORIES:Family
ATTACH;FMTTYPE=image/jpeg:https://www.discoversouthkesteven.com/wp-content/uploads/2025/09/Big-Tree-Climbing-scaled.jpg
END:VEVENT
END:VCALENDAR