BEGIN:VCALENDAR
VERSION:2.0
PRODID:-//Discover South Kesteven - ECPv6.15.11//NONSGML v1.0//EN
CALSCALE:GREGORIAN
METHOD:PUBLISH
X-WR-CALNAME:Discover South Kesteven
X-ORIGINAL-URL:https://www.discoversouthkesteven.com
X-WR-CALDESC:Events for Discover South Kesteven
REFRESH-INTERVAL;VALUE=DURATION:PT1H
X-Robots-Tag:noindex
X-PUBLISHED-TTL:PT1H
BEGIN:VTIMEZONE
TZID:Europe/London
BEGIN:DAYLIGHT
TZOFFSETFROM:+0000
TZOFFSETTO:+0100
TZNAME:BST
DTSTART:20230326T010000
END:DAYLIGHT
BEGIN:STANDARD
TZOFFSETFROM:+0100
TZOFFSETTO:+0000
TZNAME:GMT
DTSTART:20231029T010000
END:STANDARD
BEGIN:DAYLIGHT
TZOFFSETFROM:+0000
TZOFFSETTO:+0100
TZNAME:BST
DTSTART:20240331T010000
END:DAYLIGHT
BEGIN:STANDARD
TZOFFSETFROM:+0100
TZOFFSETTO:+0000
TZNAME:GMT
DTSTART:20241027T010000
END:STANDARD
BEGIN:DAYLIGHT
TZOFFSETFROM:+0000
TZOFFSETTO:+0100
TZNAME:BST
DTSTART:20250330T010000
END:DAYLIGHT
BEGIN:STANDARD
TZOFFSETFROM:+0100
TZOFFSETTO:+0000
TZNAME:GMT
DTSTART:20251026T010000
END:STANDARD
END:VTIMEZONE
BEGIN:VEVENT
DTSTART;TZID=Europe/London:20240824T110000
DTEND;TZID=Europe/London:20240824T160000
DTSTAMP:20260420T185429
CREATED:20240809T092102Z
LAST-MODIFIED:20240809T092102Z
UID:10002911-1724497200-1724515200@www.discoversouthkesteven.com
SUMMARY:Paint the Gardens at Belton
DESCRIPTION:From the youngest toddlers to the most mature seniors\, and those with little painting experience to amateur and professional artists – come and paint the gardens at Belton!\nCollect your art materials from the garden entrance\, from 10.30am-3pm\, and head out into the gardens to draw or paint your favourite spots. Take home personal memories of the wonderful gardens at Belton in all seasons! \nAll materials and paper are free\, aside from the best quality paper which will cost 50p per sheet. There is a voluntary donation to help replace items.
URL:https://www.discoversouthkesteven.com/event/paint-the-gardens-at-belton/2024-08-24/
LOCATION:Belton House\, Belton House\, High Road\, Belton\, Grantham\, Lincolnshire\, NG32 2LW\, United Kingdom
ATTACH;FMTTYPE=image/jpeg:https://www.discoversouthkesteven.com/wp-content/uploads/2023/10/Belton-House-Large.jpeg
END:VEVENT
END:VCALENDAR