BEGIN:VCALENDAR
VERSION:2.0
PRODID:-//Discover South Kesteven - ECPv6.15.11//NONSGML v1.0//EN
CALSCALE:GREGORIAN
METHOD:PUBLISH
X-WR-CALNAME:Discover South Kesteven
X-ORIGINAL-URL:https://www.discoversouthkesteven.com
X-WR-CALDESC:Events for Discover South Kesteven
REFRESH-INTERVAL;VALUE=DURATION:PT1H
X-Robots-Tag:noindex
X-PUBLISHED-TTL:PT1H
BEGIN:VTIMEZONE
TZID:Europe/London
BEGIN:DAYLIGHT
TZOFFSETFROM:+0000
TZOFFSETTO:+0100
TZNAME:BST
DTSTART:20240331T010000
END:DAYLIGHT
BEGIN:STANDARD
TZOFFSETFROM:+0100
TZOFFSETTO:+0000
TZNAME:GMT
DTSTART:20241027T010000
END:STANDARD
BEGIN:DAYLIGHT
TZOFFSETFROM:+0000
TZOFFSETTO:+0100
TZNAME:BST
DTSTART:20250330T010000
END:DAYLIGHT
BEGIN:STANDARD
TZOFFSETFROM:+0100
TZOFFSETTO:+0000
TZNAME:GMT
DTSTART:20251026T010000
END:STANDARD
BEGIN:DAYLIGHT
TZOFFSETFROM:+0000
TZOFFSETTO:+0100
TZNAME:BST
DTSTART:20260329T010000
END:DAYLIGHT
BEGIN:STANDARD
TZOFFSETFROM:+0100
TZOFFSETTO:+0000
TZNAME:GMT
DTSTART:20261025T010000
END:STANDARD
END:VTIMEZONE
BEGIN:VEVENT
DTSTART;TZID=Europe/London:20251018T100000
DTEND;TZID=Europe/London:20251019T170000
DTSTAMP:20260423T140233
CREATED:20251021T081551Z
LAST-MODIFIED:20251021T081551Z
UID:233004-1760781600-1760893200@www.discoversouthkesteven.com
SUMMARY:Re-Opening of Belvoir Farm Shop & Free Tasting Pop Ups
DESCRIPTION:Join us as we celebrate the exciting reopening of Belvoir Farm Shop\, now beautifully refurbished and ready to welcome you with a fresh new look and feel.\nDiscover an expanded range of independent suppliers\, handpicked for their commitment to provenance\, heritage\, and sustainability – our new guiding values. \n🗓️ Saturday 18th October\nMacaron tasting from Mmacarons\, 11am – 3pm\nCheese tasting from Rowcliffe Cheese 11am – 3pm \n🗓️ Sunday 19th October\nCider tasting from Thirsty Farmer 11am – 2pm\nPie Tasting from Brocklesby Pies 11am – 2pm \n📍 Belvoir Farm Shop \n🎶 Tastings\, local produce\, family-friendly fun\, and more!\nCome and support your local producers\, explore our updated space\, and be part of the next chapter at Belvoir.
URL:https://www.discoversouthkesteven.com/event/re-opening-of-belvoir-farm-shop-free-tasting-pop-ups/
LOCATION:Belvoir Castle\, Woolsthorpe Rd\, Grantham\, NG32 1PA\, United Kingdom
CATEGORIES:Food and Drink
ATTACH;FMTTYPE=image/jpeg:https://www.discoversouthkesteven.com/wp-content/uploads/2025/10/DSC00169-scaled.jpg
END:VEVENT
END:VCALENDAR