BEGIN:VCALENDAR
VERSION:2.0
PRODID:-//Discover South Kesteven - ECPv6.15.11//NONSGML v1.0//EN
CALSCALE:GREGORIAN
METHOD:PUBLISH
X-WR-CALNAME:Discover South Kesteven
X-ORIGINAL-URL:https://www.discoversouthkesteven.com
X-WR-CALDESC:Events for Discover South Kesteven
REFRESH-INTERVAL;VALUE=DURATION:PT1H
X-Robots-Tag:noindex
X-PUBLISHED-TTL:PT1H
BEGIN:VTIMEZONE
TZID:Europe/London
BEGIN:DAYLIGHT
TZOFFSETFROM:+0000
TZOFFSETTO:+0100
TZNAME:BST
DTSTART:20230326T010000
END:DAYLIGHT
BEGIN:STANDARD
TZOFFSETFROM:+0100
TZOFFSETTO:+0000
TZNAME:GMT
DTSTART:20231029T010000
END:STANDARD
BEGIN:DAYLIGHT
TZOFFSETFROM:+0000
TZOFFSETTO:+0100
TZNAME:BST
DTSTART:20240331T010000
END:DAYLIGHT
BEGIN:STANDARD
TZOFFSETFROM:+0100
TZOFFSETTO:+0000
TZNAME:GMT
DTSTART:20241027T010000
END:STANDARD
BEGIN:DAYLIGHT
TZOFFSETFROM:+0000
TZOFFSETTO:+0100
TZNAME:BST
DTSTART:20250330T010000
END:DAYLIGHT
BEGIN:STANDARD
TZOFFSETFROM:+0100
TZOFFSETTO:+0000
TZNAME:GMT
DTSTART:20251026T010000
END:STANDARD
END:VTIMEZONE
BEGIN:VEVENT
DTSTART;TZID=Europe/London:20240723T103000
DTEND;TZID=Europe/London:20240723T130000
DTSTAMP:20260419T184223
CREATED:20240716T100514Z
LAST-MODIFIED:20240716T100514Z
UID:229012-1721730600-1721739600@www.discoversouthkesteven.com
SUMMARY:Reconnecting Grantham Family Cycle Ride
DESCRIPTION:Our Woods and Parkland rides are supported by qualified British Cycling Ride Leaders who will meet you in Wyndham Park\, Grantham and guide you at a safe and leisurely pace through Queen Elizabeth Park\, through Sunningdale and onto the new cycle/footpath up to The Woodland Trust’s Londonthorpe Woods. After a short break to introduce this beautiful woodland amenity\, we will make our way along 5 Gates Lane and on to the Belton Estate. We will be granted special entry to the estate where we will stop for refreshments including a complimentary hot drink* from Belton Estate NT. \nOnce rested\, we will continue through the private parkland until we reach the Lion Gates. It is here that we join Belton Lane for a short stretch of road riding until we reach the shared path back to Wyndham park. If you still have space\, you can have a coffee with new found friends in the Wyndham Park Tea Rooms. \nDetails of others and other local rides can be found on the Let’s Ride website at https://www.letsride.co.uk \n* Regular size drinks only\, excluding luxury hot chocolates.
URL:https://www.discoversouthkesteven.com/event/reconnecting-grantham-family-cycle-ride-2/
LOCATION:Wyndham Park\, Grantham\, Lincolnshire\, NG31 9BB\, United Kingdom
CATEGORIES:Family,History/Heritage
ATTACH;FMTTYPE=image/jpeg:https://www.discoversouthkesteven.com/wp-content/uploads/2024/07/IMG_3222-1.jpeg
END:VEVENT
END:VCALENDAR