BEGIN:VCALENDAR
VERSION:2.0
PRODID:-//Discover South Kesteven - ECPv6.15.11//NONSGML v1.0//EN
CALSCALE:GREGORIAN
METHOD:PUBLISH
X-WR-CALNAME:Discover South Kesteven
X-ORIGINAL-URL:https://www.discoversouthkesteven.com
X-WR-CALDESC:Events for Discover South Kesteven
REFRESH-INTERVAL;VALUE=DURATION:PT1H
X-Robots-Tag:noindex
X-PUBLISHED-TTL:PT1H
BEGIN:VTIMEZONE
TZID:UTC
BEGIN:STANDARD
TZOFFSETFROM:+0000
TZOFFSETTO:+0000
TZNAME:UTC
DTSTART:20230101T000000
END:STANDARD
END:VTIMEZONE
BEGIN:VEVENT
DTSTART;TZID=UTC:20240629T193000
DTEND;TZID=UTC:20240629T204000
DTSTAMP:20260420T032431
CREATED:20240531T085714Z
LAST-MODIFIED:20240531T085714Z
UID:10001352-1719689400-1719693600@www.discoversouthkesteven.com
SUMMARY:Summer Lovin' Wildcats Showcase 2024
DESCRIPTION:It’s nearly the end of the school year and that can only mean one thing…. the Wildcats SHOW! We have listened to feedback and this time our amazing performers will be dropped off early and have a full dress rehearsal beforehand; giving them a FULL experience of the theatre! \nPlease make sure you buy the CORRECT tickets for the show your child is performing in: \nStamford Arts Centre Theatre: Saturday\, 29th June \n11.30 Saturday Mini 1 & 2\, Tuesday Mini (all MINI classes) \n15.30 Saturday & Tuesday Junior (all Junior classes) \n19.30 Saturday & Tuesday Pre Senior/Senior (all Pre or Senior classes) \nLimited tickets\, we have not held any seats and there are no restrictions on ticket numbers\, you can bring yourself or the whole family! \nImportant Information \nPlease make sure you buy the CORRECT tickets for the show your child is performing in \n11.30 Saturday Mini 1 & 2\, Tuesday Mini (all MINI classes) \n15.30 Saturday & Tuesday Junior (all Junior classes) \n19.30 Saturday & Tuesday Pre Senior/Senior (all Pre or Senior classes) \nVenue: Stamford Arts Centre\, Theatre \nTickets: £14.50 adult\, £10.50 child/over 65 \nRunning Time: 1 hour 10 mins (no interval)
URL:https://www.discoversouthkesteven.com/event/summer-lovin-wildcats-showcase-2024/2024-06-29/3/
LOCATION:Stamford Arts Centre\, Theatre\, 27 St Mary's Street\, Stamford\, PE9 2DL
CATEGORIES:Theatre
ATTACH;FMTTYPE=image/jpeg:https://www.discoversouthkesteven.com/wp-content/uploads/2024/05/wildcats-summer-lovin.jpg
END:VEVENT
END:VCALENDAR