BEGIN:VCALENDAR
VERSION:2.0
PRODID:-//Discover South Kesteven - ECPv6.15.11//NONSGML v1.0//EN
CALSCALE:GREGORIAN
METHOD:PUBLISH
X-WR-CALNAME:Discover South Kesteven
X-ORIGINAL-URL:https://www.discoversouthkesteven.com
X-WR-CALDESC:Events for Discover South Kesteven
REFRESH-INTERVAL;VALUE=DURATION:PT1H
X-Robots-Tag:noindex
X-PUBLISHED-TTL:PT1H
BEGIN:VTIMEZONE
TZID:UTC
BEGIN:STANDARD
TZOFFSETFROM:+0000
TZOFFSETTO:+0000
TZNAME:UTC
DTSTART:20230101T000000
END:STANDARD
END:VTIMEZONE
BEGIN:VEVENT
DTSTART;TZID=UTC:20240622T170000
DTEND;TZID=UTC:20240622T230000
DTSTAMP:20260420T033900
CREATED:20240606T115000Z
LAST-MODIFIED:20240606T115000Z
UID:228172-1719075600-1719097200@www.discoversouthkesteven.com
SUMMARY:Summer Solstice Festival
DESCRIPTION:An evening of live music\, food and drink. \nEnjoy an evening in the beautiful setting of the Bowthorpe Oak with live music from Revolver\, 23 Reasons\, Marcella Woods and The Official N Trance!!
URL:https://www.discoversouthkesteven.com/event/summer-solstice-festival/
LOCATION:Bowthorpe Park Farm\, Bowthorpe Park Farm\, Witham on the Hill\, Bourne\, PE10 0JG\, United Kingdom
CATEGORIES:Food and Drink,local events,Music
ATTACH;FMTTYPE=image/jpeg:https://www.discoversouthkesteven.com/wp-content/uploads/2024/05/IMG_3846.jpeg
ORGANIZER;CN="George Blanchard":MAILTO:Info@bowthorpeparkfarm.co.uk
END:VEVENT
END:VCALENDAR