BEGIN:VCALENDAR
VERSION:2.0
PRODID:-//Discover South Kesteven - ECPv6.15.11//NONSGML v1.0//EN
CALSCALE:GREGORIAN
METHOD:PUBLISH
X-WR-CALNAME:Discover South Kesteven
X-ORIGINAL-URL:https://www.discoversouthkesteven.com
X-WR-CALDESC:Events for Discover South Kesteven
REFRESH-INTERVAL;VALUE=DURATION:PT1H
X-Robots-Tag:noindex
X-PUBLISHED-TTL:PT1H
BEGIN:VTIMEZONE
TZID:UTC
BEGIN:STANDARD
TZOFFSETFROM:+0000
TZOFFSETTO:+0000
TZNAME:UTC
DTSTART:20230101T000000
END:STANDARD
END:VTIMEZONE
BEGIN:VEVENT
DTSTART;TZID=UTC:20240820T110000
DTEND;TZID=UTC:20240820T120000
DTSTAMP:20260423T185006
CREATED:20240606T114323Z
LAST-MODIFIED:20240606T114323Z
UID:10001337-1724151600-1724155200@www.discoversouthkesteven.com
SUMMARY:The Storyteller at Grimsthorpe Castle
DESCRIPTION:Join our resident Storyteller\, in the Adventure Playground. Mark writes and creates his own stories\, as well as adapting classic folk tales and songs. \nStories will be told at 11am\, 12.30pm and 2.30pm and are approximately 40 minutes long. \nIncluded in your Park & Garden ticket.
URL:https://www.discoversouthkesteven.com/event/the-storyteller-at-grimsthorpe-castle/2024-08-20/
LOCATION:Grimsthorpe Castle\, Grimsthorpe\, Bourne\, Lincolnshire\, PE10 0LY\, United Kingdom
CATEGORIES:Family,local events
ATTACH;FMTTYPE=image/jpeg:https://www.discoversouthkesteven.com/wp-content/uploads/2024/05/storyteller-2.jpg
ORGANIZER;CN="Grimsthorpe Castle":MAILTO:events@grimsthorpe.co.uk
END:VEVENT
END:VCALENDAR