BEGIN:VCALENDAR
VERSION:2.0
PRODID:-//Discover South Kesteven - ECPv6.15.11//NONSGML v1.0//EN
CALSCALE:GREGORIAN
METHOD:PUBLISH
X-ORIGINAL-URL:https://www.discoversouthkesteven.com
X-WR-CALDESC:Events for Discover South Kesteven
REFRESH-INTERVAL;VALUE=DURATION:PT1H
X-Robots-Tag:noindex
X-PUBLISHED-TTL:PT1H
BEGIN:VTIMEZONE
TZID:UTC
BEGIN:STANDARD
TZOFFSETFROM:+0000
TZOFFSETTO:+0000
TZNAME:UTC
DTSTART:20230101T000000
END:STANDARD
END:VTIMEZONE
BEGIN:VEVENT
DTSTART;TZID=UTC:20240605T193000
DTEND;TZID=UTC:20240605T193000
DTSTAMP:20260420T083852
CREATED:20240520T142611Z
LAST-MODIFIED:20240528T172632Z
UID:10000696-1717615800-1717615800@www.discoversouthkesteven.com
SUMMARY:The Vicar of Dibley 2: Another helping
DESCRIPTION:Grantham Dramatic Society returns to Dibley for another helping of this classic comedy. \nDibley is home to a gaggle of eccentric characters including Geraldine the bombshell vicar with a bob cut\, snooty parish council chairman David Horton\, the endearingly simple verger Alice\, and loveable Hugo – David’s dithering son. No-no-not to mention stammering Jim\, farmer Owen who’s obsessed with his bowels and pedantic secretary Frank. \nWe’ll be sharing three (new to GDS) episodes from the much-loved sitcom\, with plenty of laughs and heart-warming moments. \nImportant Information \nVenue: Guildhall Arts Centre\, Theatre \nTickets: £12 (£10 concessions) \n£10 for groups of 6 or more
URL:https://www.discoversouthkesteven.com/event/the-vicar-of-dibley-2-another-helping/2024-06-05/
LOCATION:Guildhall Theatre\, St Peter's Hill\, Grantham\, NG31 6PZ
CATEGORIES:Comedy,Drama,Series
ATTACH;FMTTYPE=image/png:https://www.discoversouthkesteven.com/wp-content/uploads/2024/05/Vicar-of-Dibley-2-Guildhall.png
END:VEVENT
BEGIN:VEVENT
DTSTART;TZID=UTC:20240606T193000
DTEND;TZID=UTC:20240606T193000
DTSTAMP:20260420T083852
CREATED:20240520T142611Z
LAST-MODIFIED:20240528T172632Z
UID:10000697-1717702200-1717702200@www.discoversouthkesteven.com
SUMMARY:The Vicar of Dibley 2: Another helping
DESCRIPTION:Grantham Dramatic Society returns to Dibley for another helping of this classic comedy. \nDibley is home to a gaggle of eccentric characters including Geraldine the bombshell vicar with a bob cut\, snooty parish council chairman David Horton\, the endearingly simple verger Alice\, and loveable Hugo – David’s dithering son. No-no-not to mention stammering Jim\, farmer Owen who’s obsessed with his bowels and pedantic secretary Frank. \nWe’ll be sharing three (new to GDS) episodes from the much-loved sitcom\, with plenty of laughs and heart-warming moments. \nImportant Information \nVenue: Guildhall Arts Centre\, Theatre \nTickets: £12 (£10 concessions) \n£10 for groups of 6 or more
URL:https://www.discoversouthkesteven.com/event/the-vicar-of-dibley-2-another-helping/2024-06-06/
LOCATION:Guildhall Theatre\, St Peter's Hill\, Grantham\, NG31 6PZ
CATEGORIES:Comedy,Drama,Series
ATTACH;FMTTYPE=image/png:https://www.discoversouthkesteven.com/wp-content/uploads/2024/05/Vicar-of-Dibley-2-Guildhall.png
END:VEVENT
BEGIN:VEVENT
DTSTART;TZID=UTC:20240607T193000
DTEND;TZID=UTC:20240607T193000
DTSTAMP:20260420T083852
CREATED:20240520T142611Z
LAST-MODIFIED:20240528T172632Z
UID:10000698-1717788600-1717788600@www.discoversouthkesteven.com
SUMMARY:The Vicar of Dibley 2: Another helping
DESCRIPTION:Grantham Dramatic Society returns to Dibley for another helping of this classic comedy. \nDibley is home to a gaggle of eccentric characters including Geraldine the bombshell vicar with a bob cut\, snooty parish council chairman David Horton\, the endearingly simple verger Alice\, and loveable Hugo – David’s dithering son. No-no-not to mention stammering Jim\, farmer Owen who’s obsessed with his bowels and pedantic secretary Frank. \nWe’ll be sharing three (new to GDS) episodes from the much-loved sitcom\, with plenty of laughs and heart-warming moments. \nImportant Information \nVenue: Guildhall Arts Centre\, Theatre \nTickets: £12 (£10 concessions) \n£10 for groups of 6 or more
URL:https://www.discoversouthkesteven.com/event/the-vicar-of-dibley-2-another-helping/2024-06-07/
LOCATION:Guildhall Theatre\, St Peter's Hill\, Grantham\, NG31 6PZ
CATEGORIES:Comedy,Drama,Series
ATTACH;FMTTYPE=image/png:https://www.discoversouthkesteven.com/wp-content/uploads/2024/05/Vicar-of-Dibley-2-Guildhall.png
END:VEVENT
BEGIN:VEVENT
DTSTART;TZID=UTC:20240608T193000
DTEND;TZID=UTC:20240608T193000
DTSTAMP:20260420T083852
CREATED:20240520T142611Z
LAST-MODIFIED:20240528T172632Z
UID:10000699-1717875000-1717875000@www.discoversouthkesteven.com
SUMMARY:The Vicar of Dibley 2: Another helping
DESCRIPTION:Grantham Dramatic Society returns to Dibley for another helping of this classic comedy. \nDibley is home to a gaggle of eccentric characters including Geraldine the bombshell vicar with a bob cut\, snooty parish council chairman David Horton\, the endearingly simple verger Alice\, and loveable Hugo – David’s dithering son. No-no-not to mention stammering Jim\, farmer Owen who’s obsessed with his bowels and pedantic secretary Frank. \nWe’ll be sharing three (new to GDS) episodes from the much-loved sitcom\, with plenty of laughs and heart-warming moments. \nImportant Information \nVenue: Guildhall Arts Centre\, Theatre \nTickets: £12 (£10 concessions) \n£10 for groups of 6 or more
URL:https://www.discoversouthkesteven.com/event/the-vicar-of-dibley-2-another-helping/2024-06-08/
LOCATION:Guildhall Theatre\, St Peter's Hill\, Grantham\, NG31 6PZ
CATEGORIES:Comedy,Drama,Series
ATTACH;FMTTYPE=image/png:https://www.discoversouthkesteven.com/wp-content/uploads/2024/05/Vicar-of-Dibley-2-Guildhall.png
END:VEVENT
BEGIN:VEVENT
DTSTART;TZID=UTC:20240613T193000
DTEND;TZID=UTC:20240613T211000
DTSTAMP:20260420T083852
CREATED:20240530T135033Z
LAST-MODIFIED:20240530T135033Z
UID:10001310-1718307000-1718313000@www.discoversouthkesteven.com
SUMMARY:Maybe Dick (Stamford Arts Centre)
DESCRIPTION:By John Hewer \nBased on the novel ‘Moby-Dick’ by Herman Melville \nDirected by Bruce Knight \nHerman Melville’s classic tale of revenge and retribution is retold in this inventive\, comedic adventure on the high seas from the company behind ‘Just Like That! The Tommy Cooper Show’ and ‘Dracula! One Bloody Fang After Another’. \nNantucket\, 1841. Ishmael signs on to the Pequod\, and witnesses the perils of nature\, obsession\, punning and physical comedy\, as Captain Ahab conducts a reckless pursuit of the savage white whale\, Moby Dick.  \nAll plot will be lampooned. All jokes will be harpooned. \n“Absolutely brought the house down” – Lincolnshire World \n“Carry On Moby Dick'” – North West End \n“You will be hit with wave after wave of silliness\, leaving a warm glow and a great big smile.” – Review Culture \n“You don’t need to know Moby-Dick to get the jokes. And there are plenty of jokes.” – Voicebox \n“This is fun knockabout stuff; we are never more than 30 seconds from the next punchline and Hewer has excellent comic timing and a winning naïveté.” – North West End \n“Hewer manages to play all the parts and maintain narrative coherence along with a stream of jokes and the odd musical interlude.” – Chiswick Calendar \n“The jokes came thick and fast. We left with huge\, aching smiles.” – TheatreFest
URL:https://www.discoversouthkesteven.com/event/maybe-dick-stamford-arts-centre/
CATEGORIES:Arts centre promoted events,Comedy,Theatre
ATTACH;FMTTYPE=image/png:https://www.discoversouthkesteven.com/wp-content/uploads/2024/05/Dick.png
END:VEVENT
END:VCALENDAR