BEGIN:VCALENDAR
VERSION:2.0
PRODID:-//Discover South Kesteven - ECPv6.15.11//NONSGML v1.0//EN
CALSCALE:GREGORIAN
METHOD:PUBLISH
X-WR-CALNAME:Discover South Kesteven
X-ORIGINAL-URL:https://www.discoversouthkesteven.com
X-WR-CALDESC:Events for Discover South Kesteven
REFRESH-INTERVAL;VALUE=DURATION:PT1H
X-Robots-Tag:noindex
X-PUBLISHED-TTL:PT1H
BEGIN:VTIMEZONE
TZID:UTC
BEGIN:STANDARD
TZOFFSETFROM:+0000
TZOFFSETTO:+0000
TZNAME:UTC
DTSTART:20230101T000000
END:STANDARD
END:VTIMEZONE
BEGIN:VTIMEZONE
TZID:UTC
BEGIN:STANDARD
TZOFFSETFROM:+0000
TZOFFSETTO:+0000
TZNAME:UTC
DTSTART:20230101T000000
END:STANDARD
END:VTIMEZONE
BEGIN:VEVENT
DTSTART;TZID=UTC:20240914T103000
DTEND;TZID=UTC:20240915T170000
DTSTAMP:20260423T181346
CREATED:20240605T092332Z
LAST-MODIFIED:20240910T092517Z
UID:10001366-1726309800-1726419600@www.discoversouthkesteven.com
SUMMARY:Folkingham Remembers Operation Market Garden
DESCRIPTION:Set sail with us on the next Aveland Odyssey free festival\, to celebrate the men who flew from USAAF 484 Folkingham in 1944. The weekend will see the village of Folkingham recreated as it was 80 years earlier when the planes and gliders took off for Operation Market Garden. The festival will be held in several locations throughout the village.\nThere will be a variety of Enactors and Vehicle Trusts\, as well as representatives portraying the Home Guard and the Women’s Land Army\, For our younger visitors there will be Children’s Theatre\, free make-and-take activities\, and a chance to get hands-on with items from the war era. A programme of singers and dancers across 3 stages will keep the spirits soaring. There will be exhibitions\, displays\, and history trails\, and a series of lectures by prominent authors and historians will be presented in the Village Hall.\nFood courts and market traders will allow a bit of R&R
URL:https://www.discoversouthkesteven.com/event/folkingham-remembers-operation-market-garden/
LOCATION:folkingham\, Folkingham Village\, Nr Sleaford\, lincolnshire\, ng34 0hg\, United Kingdom
CATEGORIES:Exhibitions,Family,History/Heritage,local events
ATTACH;FMTTYPE=image/jpeg:https://www.discoversouthkesteven.com/wp-content/uploads/2024/06/WWII-Folkingham-Festival-Poster-A4-scaled.jpg
ORGANIZER;CN="The Aveland History Group":MAILTO:theavelandhg@gmail.com
END:VEVENT
BEGIN:VEVENT
DTSTART;TZID=UTC:20240825T103000
DTEND;TZID=UTC:20240825T173000
DTSTAMP:20260423T181346
CREATED:20240606T102610Z
LAST-MODIFIED:20240606T102610Z
UID:10001342-1724581800-1724607000@www.discoversouthkesteven.com
SUMMARY:Tudor Day at Grimsthorpe Castle
DESCRIPTION:Make sure you don’t miss King Henry VIIIs royal visit! \nMeet and greet throughout the day. \nIncluded in your day ticket.
URL:https://www.discoversouthkesteven.com/event/tudor-day-at-grimsthorpe-castle/
LOCATION:Grimsthorpe Castle\, Grimsthorpe\, Bourne\, Lincolnshire\, PE10 0LY\, United Kingdom
CATEGORIES:Exhibitions,Family
ATTACH;FMTTYPE=image/jpeg:https://www.discoversouthkesteven.com/wp-content/uploads/2024/05/Tudor-Legacies2.jpg
ORGANIZER;CN="Grimsthorpe Castle":MAILTO:events@grimsthorpe.co.uk
END:VEVENT
BEGIN:VEVENT
DTSTART;TZID=UTC:20240701T103000
DTEND;TZID=UTC:20240829T173000
DTSTAMP:20260423T181346
CREATED:20240606T114122Z
LAST-MODIFIED:20240606T114122Z
UID:10001339-1719829800-1724952600@www.discoversouthkesteven.com
SUMMARY:Military Lives: Grimsthorpe and it’s Warrior Heroes
DESCRIPTION:“Military Lives: Grimsthorpe and it’s Warrior Heroes” \nOur Summer Exhibition this year looks at military lives associated with Grimsthorpe Castle. This overarching theme is presented through three distinct narrivates. \nThe Noble Soldier \nIn the early 17th century\, Grimsthorpe was home to Robert Bertie\, 1st Earl of Lindsey and 13th Lord Willoughby de Eresby. Born in the Elizabethan golden age of Chivalry\, Robert was defined by her career as an elite military commander at a period of intense warfare in Europe and the stirrings of civil war in England. \nWe explore Robert’s life through a series of objects and images. Highlights include an exceptionally rare silk doublet and trunkhose\, Elizabethan armour\, early military handbooks\, and a very personal letter from Charles I to Robert’s son\, Montagu. \nArnhem 80: Lest We Forget \nTo commemorate the 80th anniversary of the Battle of Arnhem\, we look at the lives of soldiers of 1st Battalion Parachute Regiment\, whose headquarters were at Grimsthorpe Castle in 1942. Grimsthorpe and Bourne became the centre of a major airborne assault on mainland Europe in the darkest days of the Second World War. \nThrough a small memorial exhibition in the Chapel\, we pay our respects to the soldiers who briefly called Grimsthorpe home. Visitors can find out more about two of the men based here\, and see some of the surprising items we have found hidden behind the walls. \nThe Household Cavalry Regiment \nGrimsthorpe has a long association with the Household Cavalry Regiment\, which has traditionally acted as the monarch’s personal bodyguard. Twelve contemporary photographic portraits of members of the Household Cavalry Mounted Regiment by the renowned artist\, Ripley\, will be displayed in the Vanbrugh Hall. \nThese portraits have recently been displayed at Blenheim Palace\, Apsley House\, Floors Castle and various other exceptional locations around Britain. A set of these images was presented to King Charles III by the Regiment in 2023 to mark His Majesty’s coronation. \nIncluded in your Castle\, Park & Gardens ticket\, which you can book online in advance or on arrival at the Ticket Hut.
URL:https://www.discoversouthkesteven.com/event/military-lives-grimsthorpe-and-its-warrior-heroes/
LOCATION:Grimsthorpe Castle\, Grimsthorpe\, Bourne\, Lincolnshire\, PE10 0LY\, United Kingdom
CATEGORIES:Exhibitions,local events
ATTACH;FMTTYPE=image/jpeg:https://www.discoversouthkesteven.com/wp-content/uploads/2024/05/Ripley-photo-long.jpg
ORGANIZER;CN="Grimsthorpe Castle":MAILTO:events@grimsthorpe.co.uk
END:VEVENT
BEGIN:VEVENT
DTSTART;VALUE=DATE:20240611
DTEND;VALUE=DATE:20240623
DTSTAMP:20260423T181346
CREATED:20240530T133451Z
LAST-MODIFIED:20240530T133451Z
UID:10001308-1718064000-1719100799@www.discoversouthkesteven.com
SUMMARY:Kerry Shearer Art Presents: The Remarkable Raartists
DESCRIPTION:The ReMARKable RAARtists: \nDynamic\, fearless and relentless in their pursuit of contemporary art – passion for colour\, combines them. \nCanvases are filled with avant-garde experimentation and pushing boundaries one moment\, embracing timeless techniques the next. \nAll with a modern flair\, their captivating artistic expression contributes to a collective brilliance. Not to be missed!
URL:https://www.discoversouthkesteven.com/event/kerry-shearer-art-presents-the-remarkable-raartists/
LOCATION:Stamford Arts Centre\, Gallery\, 27 St Mary's Street\, Stamford\, PE9 2DL
CATEGORIES:Exhibitions
ATTACH;FMTTYPE=image/jpeg:https://www.discoversouthkesteven.com/wp-content/uploads/2024/05/remarkable-raartists-group-2.jpeg
END:VEVENT
BEGIN:VEVENT
DTSTART;TZID=UTC:20240608T130000
DTEND;TZID=UTC:20240608T233000
DTSTAMP:20260423T181346
CREATED:20240520T143138Z
LAST-MODIFIED:20240528T172703Z
UID:10000329-1717851600-1717889400@www.discoversouthkesteven.com
SUMMARY:Power for the People
DESCRIPTION:‘POWER FOR THE PEOPLE EXHIBITION’\n“A charity transforming lives together – one community at a time.” \nSupported by\, and featuring the works of; \nMatt Caldwell – wildlife photographer. \nMark Blake – portrait artist. \nDebbie Cowley – equine/pet photographer. \nAll profits from sales & commissions to further the work\nof PfP in Kenya & Uganda. \nThis Exhibition will open at 1pm on Tuesday 28th May 
URL:https://www.discoversouthkesteven.com/event/power-for-the-people-4/2024-06-08/
LOCATION:Stamford Arts Centre\, Gallery\, 27 St Mary's Street\, Stamford\, PE9 2DL
CATEGORIES:Exhibitions,Series
ATTACH;FMTTYPE=image/jpeg:https://www.discoversouthkesteven.com/wp-content/uploads/2024/05/debbie-arab.jpg
END:VEVENT
BEGIN:VEVENT
DTSTART;TZID=UTC:20240607T130000
DTEND;TZID=UTC:20240607T233000
DTSTAMP:20260423T181346
CREATED:20240520T143138Z
LAST-MODIFIED:20240528T172703Z
UID:10000328-1717765200-1717803000@www.discoversouthkesteven.com
SUMMARY:Power for the People
DESCRIPTION:‘POWER FOR THE PEOPLE EXHIBITION’\n“A charity transforming lives together – one community at a time.” \nSupported by\, and featuring the works of; \nMatt Caldwell – wildlife photographer. \nMark Blake – portrait artist. \nDebbie Cowley – equine/pet photographer. \nAll profits from sales & commissions to further the work\nof PfP in Kenya & Uganda. \nThis Exhibition will open at 1pm on Tuesday 28th May 
URL:https://www.discoversouthkesteven.com/event/power-for-the-people-4/2024-06-07/
LOCATION:Stamford Arts Centre\, Gallery\, 27 St Mary's Street\, Stamford\, PE9 2DL
CATEGORIES:Exhibitions,Series
ATTACH;FMTTYPE=image/jpeg:https://www.discoversouthkesteven.com/wp-content/uploads/2024/05/debbie-arab.jpg
END:VEVENT
BEGIN:VEVENT
DTSTART;TZID=UTC:20240606T130000
DTEND;TZID=UTC:20240606T233000
DTSTAMP:20260423T181346
CREATED:20240520T143138Z
LAST-MODIFIED:20240528T172703Z
UID:10000327-1717678800-1717716600@www.discoversouthkesteven.com
SUMMARY:Power for the People
DESCRIPTION:‘POWER FOR THE PEOPLE EXHIBITION’\n“A charity transforming lives together – one community at a time.” \nSupported by\, and featuring the works of; \nMatt Caldwell – wildlife photographer. \nMark Blake – portrait artist. \nDebbie Cowley – equine/pet photographer. \nAll profits from sales & commissions to further the work\nof PfP in Kenya & Uganda. \nThis Exhibition will open at 1pm on Tuesday 28th May 
URL:https://www.discoversouthkesteven.com/event/power-for-the-people-4/2024-06-06/
LOCATION:Stamford Arts Centre\, Gallery\, 27 St Mary's Street\, Stamford\, PE9 2DL
CATEGORIES:Exhibitions,Series
ATTACH;FMTTYPE=image/jpeg:https://www.discoversouthkesteven.com/wp-content/uploads/2024/05/debbie-arab.jpg
END:VEVENT
BEGIN:VEVENT
DTSTART;TZID=UTC:20240605T130000
DTEND;TZID=UTC:20240605T233000
DTSTAMP:20260423T181346
CREATED:20240520T143138Z
LAST-MODIFIED:20240528T172703Z
UID:10000326-1717592400-1717630200@www.discoversouthkesteven.com
SUMMARY:Power for the People
DESCRIPTION:‘POWER FOR THE PEOPLE EXHIBITION’\n“A charity transforming lives together – one community at a time.” \nSupported by\, and featuring the works of; \nMatt Caldwell – wildlife photographer. \nMark Blake – portrait artist. \nDebbie Cowley – equine/pet photographer. \nAll profits from sales & commissions to further the work\nof PfP in Kenya & Uganda. \nThis Exhibition will open at 1pm on Tuesday 28th May 
URL:https://www.discoversouthkesteven.com/event/power-for-the-people-4/2024-06-05/
LOCATION:Stamford Arts Centre\, Gallery\, 27 St Mary's Street\, Stamford\, PE9 2DL
CATEGORIES:Exhibitions,Series
ATTACH;FMTTYPE=image/jpeg:https://www.discoversouthkesteven.com/wp-content/uploads/2024/05/debbie-arab.jpg
END:VEVENT
BEGIN:VEVENT
DTSTART;TZID=UTC:20240604T130000
DTEND;TZID=UTC:20240604T233000
DTSTAMP:20260423T181346
CREATED:20240520T143138Z
LAST-MODIFIED:20240528T172703Z
UID:10000325-1717506000-1717543800@www.discoversouthkesteven.com
SUMMARY:Power for the People
DESCRIPTION:‘POWER FOR THE PEOPLE EXHIBITION’\n“A charity transforming lives together – one community at a time.” \nSupported by\, and featuring the works of; \nMatt Caldwell – wildlife photographer. \nMark Blake – portrait artist. \nDebbie Cowley – equine/pet photographer. \nAll profits from sales & commissions to further the work\nof PfP in Kenya & Uganda. \nThis Exhibition will open at 1pm on Tuesday 28th May 
URL:https://www.discoversouthkesteven.com/event/power-for-the-people-4/2024-06-04/
LOCATION:Stamford Arts Centre\, Gallery\, 27 St Mary's Street\, Stamford\, PE9 2DL
CATEGORIES:Exhibitions,Series
ATTACH;FMTTYPE=image/jpeg:https://www.discoversouthkesteven.com/wp-content/uploads/2024/05/debbie-arab.jpg
END:VEVENT
BEGIN:VEVENT
DTSTART;TZID=UTC:20240603T130000
DTEND;TZID=UTC:20240603T233000
DTSTAMP:20260423T181346
CREATED:20240520T143138Z
LAST-MODIFIED:20240528T172703Z
UID:10000324-1717419600-1717457400@www.discoversouthkesteven.com
SUMMARY:Power for the People
DESCRIPTION:‘POWER FOR THE PEOPLE EXHIBITION’\n“A charity transforming lives together – one community at a time.” \nSupported by\, and featuring the works of; \nMatt Caldwell – wildlife photographer. \nMark Blake – portrait artist. \nDebbie Cowley – equine/pet photographer. \nAll profits from sales & commissions to further the work\nof PfP in Kenya & Uganda. \nThis Exhibition will open at 1pm on Tuesday 28th May 
URL:https://www.discoversouthkesteven.com/event/power-for-the-people-4/2024-06-03/
LOCATION:Stamford Arts Centre\, Gallery\, 27 St Mary's Street\, Stamford\, PE9 2DL
CATEGORIES:Exhibitions,Series
ATTACH;FMTTYPE=image/jpeg:https://www.discoversouthkesteven.com/wp-content/uploads/2024/05/debbie-arab.jpg
END:VEVENT
BEGIN:VEVENT
DTSTART;TZID=UTC:20240602T130000
DTEND;TZID=UTC:20240602T233000
DTSTAMP:20260423T181346
CREATED:20240520T143138Z
LAST-MODIFIED:20240528T172703Z
UID:10000323-1717333200-1717371000@www.discoversouthkesteven.com
SUMMARY:Power for the People
DESCRIPTION:‘POWER FOR THE PEOPLE EXHIBITION’\n“A charity transforming lives together – one community at a time.” \nSupported by\, and featuring the works of; \nMatt Caldwell – wildlife photographer. \nMark Blake – portrait artist. \nDebbie Cowley – equine/pet photographer. \nAll profits from sales & commissions to further the work\nof PfP in Kenya & Uganda. \nThis Exhibition will open at 1pm on Tuesday 28th May 
URL:https://www.discoversouthkesteven.com/event/power-for-the-people-4/2024-06-02/
LOCATION:Stamford Arts Centre\, Gallery\, 27 St Mary's Street\, Stamford\, PE9 2DL
CATEGORIES:Exhibitions,Series
ATTACH;FMTTYPE=image/jpeg:https://www.discoversouthkesteven.com/wp-content/uploads/2024/05/debbie-arab.jpg
END:VEVENT
BEGIN:VEVENT
DTSTART;TZID=UTC:20240601T130000
DTEND;TZID=UTC:20240601T233000
DTSTAMP:20260423T181346
CREATED:20240520T143138Z
LAST-MODIFIED:20240528T172703Z
UID:10000322-1717246800-1717284600@www.discoversouthkesteven.com
SUMMARY:Power for the People
DESCRIPTION:‘POWER FOR THE PEOPLE EXHIBITION’\n“A charity transforming lives together – one community at a time.” \nSupported by\, and featuring the works of; \nMatt Caldwell – wildlife photographer. \nMark Blake – portrait artist. \nDebbie Cowley – equine/pet photographer. \nAll profits from sales & commissions to further the work\nof PfP in Kenya & Uganda. \nThis Exhibition will open at 1pm on Tuesday 28th May 
URL:https://www.discoversouthkesteven.com/event/power-for-the-people-4/2024-06-01/
LOCATION:Stamford Arts Centre\, Gallery\, 27 St Mary's Street\, Stamford\, PE9 2DL
CATEGORIES:Exhibitions,Series
ATTACH;FMTTYPE=image/jpeg:https://www.discoversouthkesteven.com/wp-content/uploads/2024/05/debbie-arab.jpg
END:VEVENT
BEGIN:VEVENT
DTSTART;TZID=UTC:20240531T130000
DTEND;TZID=UTC:20240531T233000
DTSTAMP:20260423T181346
CREATED:20240520T143138Z
LAST-MODIFIED:20240528T172703Z
UID:10000321-1717160400-1717198200@www.discoversouthkesteven.com
SUMMARY:Power for the People
DESCRIPTION:‘POWER FOR THE PEOPLE EXHIBITION’\n“A charity transforming lives together – one community at a time.” \nSupported by\, and featuring the works of; \nMatt Caldwell – wildlife photographer. \nMark Blake – portrait artist. \nDebbie Cowley – equine/pet photographer. \nAll profits from sales & commissions to further the work\nof PfP in Kenya & Uganda. \nThis Exhibition will open at 1pm on Tuesday 28th May 
URL:https://www.discoversouthkesteven.com/event/power-for-the-people-4/2024-05-31/
LOCATION:Stamford Arts Centre\, Gallery\, 27 St Mary's Street\, Stamford\, PE9 2DL
CATEGORIES:Exhibitions,Series
ATTACH;FMTTYPE=image/jpeg:https://www.discoversouthkesteven.com/wp-content/uploads/2024/05/debbie-arab.jpg
END:VEVENT
BEGIN:VEVENT
DTSTART;TZID=UTC:20240530T130000
DTEND;TZID=UTC:20240530T233000
DTSTAMP:20260423T181346
CREATED:20240520T143138Z
LAST-MODIFIED:20240528T172703Z
UID:10000320-1717074000-1717111800@www.discoversouthkesteven.com
SUMMARY:Power for the People
DESCRIPTION:‘POWER FOR THE PEOPLE EXHIBITION’\n“A charity transforming lives together – one community at a time.” \nSupported by\, and featuring the works of; \nMatt Caldwell – wildlife photographer. \nMark Blake – portrait artist. \nDebbie Cowley – equine/pet photographer. \nAll profits from sales & commissions to further the work\nof PfP in Kenya & Uganda. \nThis Exhibition will open at 1pm on Tuesday 28th May 
URL:https://www.discoversouthkesteven.com/event/power-for-the-people-4/2024-05-30/
LOCATION:Stamford Arts Centre\, Gallery\, 27 St Mary's Street\, Stamford\, PE9 2DL
CATEGORIES:Exhibitions,Series
ATTACH;FMTTYPE=image/jpeg:https://www.discoversouthkesteven.com/wp-content/uploads/2024/05/debbie-arab.jpg
END:VEVENT
BEGIN:VEVENT
DTSTART;TZID=UTC:20240529T130000
DTEND;TZID=UTC:20240529T233000
DTSTAMP:20260423T181346
CREATED:20240520T143138Z
LAST-MODIFIED:20240528T172703Z
UID:10000319-1716987600-1717025400@www.discoversouthkesteven.com
SUMMARY:Power for the People
DESCRIPTION:‘POWER FOR THE PEOPLE EXHIBITION’\n“A charity transforming lives together – one community at a time.” \nSupported by\, and featuring the works of; \nMatt Caldwell – wildlife photographer. \nMark Blake – portrait artist. \nDebbie Cowley – equine/pet photographer. \nAll profits from sales & commissions to further the work\nof PfP in Kenya & Uganda. \nThis Exhibition will open at 1pm on Tuesday 28th May 
URL:https://www.discoversouthkesteven.com/event/power-for-the-people-4/2024-05-29/
LOCATION:Stamford Arts Centre\, Gallery\, 27 St Mary's Street\, Stamford\, PE9 2DL
CATEGORIES:Exhibitions,Series
ATTACH;FMTTYPE=image/jpeg:https://www.discoversouthkesteven.com/wp-content/uploads/2024/05/debbie-arab.jpg
END:VEVENT
BEGIN:VEVENT
DTSTART;TZID=UTC:20240528T130000
DTEND;TZID=UTC:20240528T233000
DTSTAMP:20260423T181346
CREATED:20240520T143138Z
LAST-MODIFIED:20240528T172703Z
UID:10000259-1716901200-1716939000@www.discoversouthkesteven.com
SUMMARY:Power for the People
DESCRIPTION:‘POWER FOR THE PEOPLE EXHIBITION’\n“A charity transforming lives together – one community at a time.” \nSupported by\, and featuring the works of; \nMatt Caldwell – wildlife photographer. \nMark Blake – portrait artist. \nDebbie Cowley – equine/pet photographer. \nAll profits from sales & commissions to further the work\nof PfP in Kenya & Uganda. \nThis Exhibition will open at 1pm on Tuesday 28th May 
URL:https://www.discoversouthkesteven.com/event/power-for-the-people-4/2024-05-28/
LOCATION:Stamford Arts Centre\, Gallery\, 27 St Mary's Street\, Stamford\, PE9 2DL
CATEGORIES:Exhibitions,Series
ATTACH;FMTTYPE=image/jpeg:https://www.discoversouthkesteven.com/wp-content/uploads/2024/05/debbie-arab.jpg
END:VEVENT
END:VCALENDAR