BEGIN:VCALENDAR
VERSION:2.0
PRODID:-//Discover South Kesteven - ECPv6.15.11//NONSGML v1.0//EN
CALSCALE:GREGORIAN
METHOD:PUBLISH
X-WR-CALNAME:Discover South Kesteven
X-ORIGINAL-URL:https://www.discoversouthkesteven.com
X-WR-CALDESC:Events for Discover South Kesteven
REFRESH-INTERVAL;VALUE=DURATION:PT1H
X-Robots-Tag:noindex
X-PUBLISHED-TTL:PT1H
BEGIN:VTIMEZONE
TZID:Europe/London
BEGIN:DAYLIGHT
TZOFFSETFROM:+0000
TZOFFSETTO:+0100
TZNAME:BST
DTSTART:20240331T010000
END:DAYLIGHT
BEGIN:STANDARD
TZOFFSETFROM:+0100
TZOFFSETTO:+0000
TZNAME:GMT
DTSTART:20241027T010000
END:STANDARD
BEGIN:DAYLIGHT
TZOFFSETFROM:+0000
TZOFFSETTO:+0100
TZNAME:BST
DTSTART:20250330T010000
END:DAYLIGHT
BEGIN:STANDARD
TZOFFSETFROM:+0100
TZOFFSETTO:+0000
TZNAME:GMT
DTSTART:20251026T010000
END:STANDARD
BEGIN:DAYLIGHT
TZOFFSETFROM:+0000
TZOFFSETTO:+0100
TZNAME:BST
DTSTART:20260329T010000
END:DAYLIGHT
BEGIN:STANDARD
TZOFFSETFROM:+0100
TZOFFSETTO:+0000
TZNAME:GMT
DTSTART:20261025T010000
END:STANDARD
BEGIN:DAYLIGHT
TZOFFSETFROM:+0000
TZOFFSETTO:+0100
TZNAME:BST
DTSTART:20270328T010000
END:DAYLIGHT
BEGIN:STANDARD
TZOFFSETFROM:+0100
TZOFFSETTO:+0000
TZNAME:GMT
DTSTART:20271031T010000
END:STANDARD
END:VTIMEZONE
BEGIN:VEVENT
DTSTART;VALUE=DATE:20251018
DTEND;VALUE=DATE:20251103
DTSTAMP:20260419T152854
CREATED:20251021T081522Z
LAST-MODIFIED:20251021T081522Z
UID:10003036-1760745600-1762127999@www.discoversouthkesteven.com
SUMMARY:"GO BATS AT BELVOIR" Adventure Playground Trail
DESCRIPTION:Halloween at Belvoir Castle 🎃👻\nThis Halloween\, step into the shadows of Belvoir Castle in Leicestershire for a truly unforgettable experience. \nFamily-Friendly Halloween Activities\nWander through the historic castle grounds and enjoy our spooky playground trail\, themed with bats\, ghosts\, and hidden surprises in the gardens. Perfect for children and families looking for safe and fun Halloween activities in the East Midlands. \nUpgrade Your Visit\nFor even more Halloween fun at Belvoir Castle\, you can upgrade your ticket to include: \n🎃 Pumpkin decorating – create your own spooky masterpiece \n📖 Spooky story time with a friendly witch – complete with a cosy hot chocolate \nA Halloween Day Out for All Ages\nWhether you’re searching for a family Halloween event near Leicestershire and Lincolnshire or a spine-tingling ghost tour\, Belvoir Castle offers the perfect mix of history\, atmosphere\, and fun. \nDon’t miss this chance to experience Halloween at Belvoir Castle – it’s a little spooky\, a lot of fun\, and the perfect seasonal treat for all ages.
URL:https://www.discoversouthkesteven.com/event/go-bats-at-belvoir-adventure-playground-trail/
LOCATION:Belvoir Castle\, Woolsthorpe Rd\, Grantham\, NG32 1PA\, United Kingdom
CATEGORIES:Family
ATTACH;FMTTYPE=image/png:https://www.discoversouthkesteven.com/wp-content/uploads/2025/10/Halloween-Trail.png
END:VEVENT
BEGIN:VEVENT
DTSTART;TZID=Europe/London:20251121T080000
DTEND;TZID=Europe/London:20251121T170000
DTSTAMP:20260419T152854
CREATED:20250703T135924Z
LAST-MODIFIED:20250703T135924Z
UID:10002920-1763712000-1763744400@www.discoversouthkesteven.com
SUMMARY:Christmas at Belton
DESCRIPTION:Experience the Festive Magic: Belton Estate Reveals Enchanting New Christmas Light Trail for 2025! \nCreated by award-winning\, internationally acclaimed light trail producers and firmly positioned within the UK’s seasonal calendar\, Christmas at Belton has everything you need for an unforgettable time with friends and family\, including a fairground\, and\, of course\, magical glimpses of Father Christmas along the way. \nAmong the new installation highlights for 2025 is ‘On the Tide’ by Squidsoup\, a water-based floating floral lightwork created from points of light floating in strands\, positioned by the natural movement of the water. \nOther features which visitors can enjoy this year include an immersive area filled with lasers\, a fire garden and a festive themed animated story projected onto Belton House’s facade. \nGuests can look forward to the iconic tunnel of lights\, larger-than-life installations\, and the ever-popular appearances by Father Christmas. The trail is designed to engage all the senses\, with seasonal music accompanying the stunning visual displays. \nGrab a seasonal snack from one of the hand-picked street food vendors who bring an indulgent twist to tempting treats on offer. Complete your walk under the stars with a festive *spiced winter warmer\, *hot chocolate or *toasted marshmallow and share it with someone special. \nYour very merriest Christmas starts here. Limited capacity with timed entry. Plan now to secure the date and time of your choice. \n*Separate charges apply.
URL:https://www.discoversouthkesteven.com/event/christmas-at-belton/2025-11-21/
LOCATION:Belton House\, Belton House\, High Road\, Belton\, Grantham\, Lincolnshire\, NG32 2LW\, United Kingdom
CATEGORIES:Family,History/Heritage,Music
ATTACH;FMTTYPE=image/jpeg:https://www.discoversouthkesteven.com/wp-content/uploads/2025/07/7-by-Luke-Dyson-LD1_0081-Enhanced-NR-scaled.jpg
ORGANIZER;CN="Sony Music":MAILTO:belton@nationaltrust.org.uk
END:VEVENT
BEGIN:VEVENT
DTSTART;TZID=Europe/London:20251122T000000
DTEND;TZID=Europe/London:20260210T230000
DTSTAMP:20260419T152854
CREATED:20250703T135924Z
LAST-MODIFIED:20250703T135924Z
UID:10002922-1763769600-1770764400@www.discoversouthkesteven.com
SUMMARY:Christmas at Belton
DESCRIPTION:Experience the Festive Magic: Belton Estate Reveals Enchanting New Christmas Light Trail for 2025! \nCreated by award-winning\, internationally acclaimed light trail producers and firmly positioned within the UK’s seasonal calendar\, Christmas at Belton has everything you need for an unforgettable time with friends and family\, including a fairground\, and\, of course\, magical glimpses of Father Christmas along the way. \nAmong the new installation highlights for 2025 is ‘On the Tide’ by Squidsoup\, a water-based floating floral lightwork created from points of light floating in strands\, positioned by the natural movement of the water. \nOther features which visitors can enjoy this year include an immersive area filled with lasers\, a fire garden and a festive themed animated story projected onto Belton House’s facade. \nGuests can look forward to the iconic tunnel of lights\, larger-than-life installations\, and the ever-popular appearances by Father Christmas. The trail is designed to engage all the senses\, with seasonal music accompanying the stunning visual displays. \nGrab a seasonal snack from one of the hand-picked street food vendors who bring an indulgent twist to tempting treats on offer. Complete your walk under the stars with a festive *spiced winter warmer\, *hot chocolate or *toasted marshmallow and share it with someone special. \nYour very merriest Christmas starts here. Limited capacity with timed entry. Plan now to secure the date and time of your choice. \n*Separate charges apply.
URL:https://www.discoversouthkesteven.com/event/christmas-at-belton/2025-11-22/
LOCATION:Belton House\, Belton House\, High Road\, Belton\, Grantham\, Lincolnshire\, NG32 2LW\, United Kingdom
CATEGORIES:Family,History/Heritage,Music
ATTACH;FMTTYPE=image/jpeg:https://www.discoversouthkesteven.com/wp-content/uploads/2025/07/7-by-Luke-Dyson-LD1_0081-Enhanced-NR-scaled.jpg
ORGANIZER;CN="Sony Music":MAILTO:belton@nationaltrust.org.uk
END:VEVENT
END:VCALENDAR