BEGIN:VCALENDAR
VERSION:2.0
PRODID:-//Discover South Kesteven - ECPv6.15.11//NONSGML v1.0//EN
CALSCALE:GREGORIAN
METHOD:PUBLISH
X-WR-CALNAME:Discover South Kesteven
X-ORIGINAL-URL:https://www.discoversouthkesteven.com
X-WR-CALDESC:Events for Discover South Kesteven
REFRESH-INTERVAL;VALUE=DURATION:PT1H
X-Robots-Tag:noindex
X-PUBLISHED-TTL:PT1H
BEGIN:VTIMEZONE
TZID:UTC
BEGIN:STANDARD
TZOFFSETFROM:+0000
TZOFFSETTO:+0000
TZNAME:UTC
DTSTART:20230101T000000
END:STANDARD
END:VTIMEZONE
BEGIN:VEVENT
DTSTART;TZID=UTC:20240611T191500
DTEND;TZID=UTC:20240611T223000
DTSTAMP:20260425T012555
CREATED:20240530T134124Z
LAST-MODIFIED:20240530T134124Z
UID:10001309-1718133300-1718145000@www.discoversouthkesteven.com
SUMMARY:Andrea Chenier - Royal Opera
DESCRIPTION:The Royal Opera [Revival] Giordano ANDREA CHENIER \nCast: Jonas Kaufmann\, Sondra Radvanovsky\, Carlos Álvarez \nConductor: Antonio Pappano | Director: David McVicar \nLIVE: Tuesday 11 June 2024\, 7.15pm  Running time 195 minutes (TBC)\, One interval \nSung in Italian with English subtitles Jonas Kaufmann headlines David McVicar’s spectacular staging\, under the baton of long-time collaborator Antonio Pappano – who conducts Giordano’s epic historical drama of revolution and forbidden love in his last production as Music Director of The Royal Opera.
URL:https://www.discoversouthkesteven.com/event/andrea-chenier-royal-opera/
LOCATION:Stamford Arts Centre\, Theatre\, 27 St Mary's Street\, Stamford\, PE9 2DL
CATEGORIES:Film
ATTACH;FMTTYPE=image/jpeg:https://www.discoversouthkesteven.com/wp-content/uploads/2024/05/chenier-960.jpeg
END:VEVENT
END:VCALENDAR