BEGIN:VCALENDAR
VERSION:2.0
PRODID:-//Discover South Kesteven - ECPv6.15.11//NONSGML v1.0//EN
CALSCALE:GREGORIAN
METHOD:PUBLISH
X-ORIGINAL-URL:https://www.discoversouthkesteven.com
X-WR-CALDESC:Events for Discover South Kesteven
REFRESH-INTERVAL;VALUE=DURATION:PT1H
X-Robots-Tag:noindex
X-PUBLISHED-TTL:PT1H
BEGIN:VTIMEZONE
TZID:UTC
BEGIN:STANDARD
TZOFFSETFROM:+0000
TZOFFSETTO:+0000
TZNAME:UTC
DTSTART:20230101T000000
END:STANDARD
END:VTIMEZONE
BEGIN:VTIMEZONE
TZID:UTC
BEGIN:STANDARD
TZOFFSETFROM:+0000
TZOFFSETTO:+0000
TZNAME:UTC
DTSTART:20230101T000000
END:STANDARD
END:VTIMEZONE
BEGIN:VEVENT
DTSTART;TZID=UTC:20240607T200000
DTEND;TZID=UTC:20240607T220000
DTSTAMP:20260422T112432
CREATED:20240523T135912Z
LAST-MODIFIED:20240523T135912Z
UID:10000317-1717790400-1717797600@www.discoversouthkesteven.com
SUMMARY:Aaran Kent Quartet - Jazz in the Cellar
DESCRIPTION:Arran Kent is one of the UK’s leading wind players\, specialising in making jazz & blues sound fresh. This guy really knows how to swing and is praised for his tasty bebop chops and expressive tone on both the clarinet & saxophone – which he plays with equal dexterity. Arran is also musical director of KoKo Collective and is the resident bandleader/host for London’s Piano Bar Soho. \nFor this show\, Arran will be joined by regular collaborator Andrew Wood at the drums\, often featured in the KoKo Collective and the house drummer for Nottingham’s jazz club – Peggy’s Skylight. On double bass and piano\, Martyn Spencer and Matthew Ratcliffe complete the ensemble\, both of whom are regular welcome visitors to the Stamford cellar bar jazz events. \nSee our other Jazz In The Cellar Bar events: \nSam Braysher – Friday 10th May \nEliot Richards Quartet – Friday 12th July \nFull Line-Up: \nArran Kent – Saxophone & Clarinet \nAndrzej Baranek  – Piano \nMartyn Spencer – Double Bass \nAndrew ‘Woody’ Wood – Drums \n— \n“A wealth of talent calling to mind the spirit of the hard-swinging\, exuberant jazz joints of 50’s New York” – Ronnie Scott’s Jazz Club \n— \nArtist Social Media \nhttps://www.instagram.com/arrankent/ \nhttps://www.instagram.com/andrewwoodjazz/ \nhttps://www.instagram.com/martynspencer/ \nhttps://www.instagram.com/rachaeljohnsonkeys/
URL:https://www.discoversouthkesteven.com/event/aaran-kent-quartet-jazz-in-the-cellar/
LOCATION:Stamford Arts Centre\, Cellar Bar\, 27 St Mary's Street\, Stamford\, PE9 2DL
CATEGORIES:Arts centre promoted events,Music,Stamford Cellar bar
END:VEVENT
BEGIN:VEVENT
DTSTART;TZID=UTC:20240609T120000
DTEND;TZID=UTC:20240609T183000
DTSTAMP:20260422T112432
CREATED:20240523T140438Z
LAST-MODIFIED:20240523T140438Z
UID:10000318-1717934400-1717957800@www.discoversouthkesteven.com
SUMMARY:Lazy Sunday Afternoon of Jazz
DESCRIPTION:Orpheus Arts brings you a lovely Sunday afternoon of Jazz. All this will be held in our Marquee with tables and benches\, top PA system and stage. So no need to worry about the weather. Plenty of parking available. \nFood courtesy of Amo La Pizza. Beers\, Wines and other beverages served throughout the day. Table Service. \nSara Oschlag Quartet \nDanish jazz singer Sara Oschlag\, has made a name for herself as a leader and featured guest in bands throughout the UK and Europe. \nAn intelligent interpreter of songs in the jazz tradition\, she has been hailed as a musician’s singer due to her wonderful way of using dynamics\, texture and rhythm. \nHer honest stage presence\, expressive voice and effortless sense of swing have made her a firm favourite with musicians and the jazz audience. \nQ3 \nCambridge-based jazz outfit Q3 is joined by US sax player Kevin Flanagan. Kevin’s credits includes recording with B.B. King\, members of Pink Floyd\, Portishead and Led Zeppelin and the Tommy Chase Quartet. Q3 features jazz\, straight ahead\, latin and jazz-funk compositions by composer and pianist Martin Hallmark\, alongside one of the UK’s top electric bassists in Tiago Coimbra and multi-talented drummer Derek Scurll. The band performs a new set of compositions from their recently launched third album\, alongside their other original tracks and classic jazz fusion standards. \nJonny Kerry Trio \nJonny Kerry is an emerging singer-songwriter\, captivating audiences with his smooth vocals\, and virtuoso piano playing. \nHis original compositions blend the classic beauty of jazz with contemporary influences\, weaving stories through melody and lyricism that draw listeners into his world. \nBuhania \nFresh from gigs across Cambridgeshire and Norfolk\, including a sell-out show at Norwich Jazz Club\, Buhania delight their audiences with the interplay between the soloists and the sparkling arrangements – there is real joy in the music-making of this band\, with nods and smiles between the band when one of their number has lit the room up with a great solo. Jonny Kerry is an emerging singer-songwriter\, captivating audiences with his smooth vocals\, and virtuoso piano playing. \nThe Herbie Lamb Quartet \nThe Herbie Lamb Quartet are an in demand local vocal jazz quartet playing popular jazz standards from the Great American Songbook. \nFronted by Jacqui Getty and backed by Michael Keithson on piano\, Kev Herbert on bass and Steve Andrews on drums.
URL:https://www.discoversouthkesteven.com/event/lazy-sunday-afternoon-of-jazz/
LOCATION:The Marquee Borderville Sports Complex\, Drift Road\, Stamford\, PE9 1US
CATEGORIES:local events,Music
END:VEVENT
BEGIN:VEVENT
DTSTART;TZID=UTC:20240613T193000
DTEND;TZID=UTC:20240613T193000
DTSTAMP:20260422T112432
CREATED:20240520T143946Z
LAST-MODIFIED:20240520T144239Z
UID:10000265-1718307000-1718307000@www.discoversouthkesteven.com
SUMMARY:Serenata - Music in Quiet Places
DESCRIPTION:Part of our Music In Quiet Places season. \n“A powerful and focused performance” – Classical Guitar Magazine. \nThe internationally acclaimed pair perform sparkling duo music. Baroque gems such as Vivaldi\, folk-inspired works such as Bartok and suave tangos by Piazzolla. Individually Harriet and Morgan have performed all over the world and have broadcast on BBC Radio 3 and Classic FM. Together\, they have performed at the Music At Oxford International Concert Series\, Music at Leamington\, Jersey International Festival\, Chichester Festival\, Cambridge Summer Music Festival\, Beaminster Festival\, Conway Hall\, the International Guitar Festival in London and have been described by Time Out as “A fearsome duo!”. \nHarriet Mackenzie – violin \n“Searing Intensity… A performance full of panache…. captivating” – The Strad \nHarriet Mackenzie is an internationally renowned concerto soloist and has performed across five continents. Recordings include concertos with the Royal Philharmonic Orchestra\, Orchestra Nova and the English Symphony Orchestra. These have received international acclaim\, including ‘Editor’s Choice’ in Gramophone Magazine\, cited for Harriet’s “superbly responsive playing… faultless technique and unfailing insight”. Her recording of five British contemporary violin concertos received a Five Star review in The Times from Richard Morrison as well as being nominated for ‘Recording of The Year’ 2017. She has recorded on the NMC\, Naxos\, Signum\, Nimbus and Dutton labels. Live broadcasts include BBC Radio 3\, Classic FM\, Radio London and Hungarian National Radio. As a soloist she has performed with the Bournemouth Symphony Orchestra\, London Chamber Orchestra\, Ensemble 12\, Aldeburgh Festival Orchestra\, Bath Philharmonia\, Royal Philharmonic Orchestra\, Piccadilly Sinfonia\, Skallsjo Sommarorkester and English Symphony Orchestra. Composers who have written and dedicated violin concertos for Harriet include Deborah Pritchard\, Robert Fokkens\, Julian Joseph\, Christopher Gunning. In 2016 she made her directing debut with the London-Vienna Kammerorchester in Piazzolla/Deyatnikov ‘Four Seasons of Buenos Aires’ in Auditorio Nacional\, Madrid and has continued to direct ensembles since then including her own string orchestra – the ‘Celoniatus Ensemble’ named after her 1730 Italian violin. In addition to her solo work she is a lover of chamber music and is a founder member of Kosmos Ensemble\, Karolos Ensemble and also performs with pianists Peter Donohoe\, Danny Driver and guitarist Morgan Szymanski. Harriet graduated from the Royal Academy of Music with First Class honours\, M.Mus and DipRAM. In 2015 she was awarded the Richard Carne Fellowship at Trinity Laban Conservatoire of Music. In this same year she was made an Associate of the Royal Academy of Music (ARAM) for her outstanding services to music. \nwww.harrietmackenzie.com\, \nMorgan Szymanski – guitar: \nDescribed as “a player destined for future glories’ – Classical Guitar Magazine”\, Morgan Szymanski has been highlighted as ‘One to Watch’ by both Gramophone Magazine and the BBC Music Magazine. Born in Mexico City\, Morgan studied at the Royal College of Music and Conservatorium van Amsterdam graduating with first class honours. He won 1st prize in the 2002 National Guitar Competition in Mexico and was a YCAT Artist between 2006-2010.Performances as a soloist and with orchestras have taken him to concert halls and festivals all over the world. In the UK Morgan has given recitals at major venues and festivals including Wigmore Hall\, Cadogan Hall\, Bridgewater Hall\, Purcell Room\, Queen Elizabeth Hall\, King’s Place\, The Sage Gateshead\, Royal Opera House\, Lichfield Festival\, Salisbury Festival and London International Guitar Festival. He has appeared as a soloist with the Royal Philharmonic Orchestra\, Hallé\, Northern Sinfonia\, the Cervantes Choir\, RTE’ Concert Orchestra and the Academy of St. Martin in the Fields. Morgan continues to build his international reputation with performances around the world at the Shanghai Oriental Arts Centre\, Luxembourg Philharmonie\, Vienna Konzerthaus and Mexico’s Palacio de Bellas Artes to name but a few. \nNumerous composers have dedicated works for Morgan including\, Alec Roth\, Stephen McNeff\, Simon Rowland-Jones\, Simone Iannarelli\, Deborah Pritchard\, Paul Coles\, Ivan Moseley\, Marcela Rodríguez and Julio César Oliva. \nHe is an alumni of Live Music Now! \, the scheme started by Lord Yehudi Menuhin to reach audiences that would otherwise have no access to live music. In 2016 he founded PRISMA\, an artistic outreach programme aimed at taking workshops in music and the performing arts to socially disadvantaged and remote areas in Mexico. This project has benefited over 16\,000 Mexican children. \nMorgan is much in demand as a teacher and has given masterclasses at top conservatoires worldwide including the Royal College of Music\, Royal Welsh College of Music (Cardiff) and Trinity College of Music as well as conservatoires in China and Mexico. \n  \nImportant Information \nVenue: St Swithuns\, 1 Church Ln\, Long Bennington NG23 5EU \nTickets: £16 (£14 concessions) \nPart of our Music In Quiet Places season
URL:https://www.discoversouthkesteven.com/event/serenata-music-in-quiet-places/
LOCATION:St Swithin’s Church\, Long Benington\, NG23 5ES\, United Kingdom
CATEGORIES:local events,Music
ATTACH;FMTTYPE=image/jpeg:https://www.discoversouthkesteven.com/wp-content/uploads/2024/05/Serenata-Harriet-Morgan-202402.jpg
END:VEVENT
BEGIN:VEVENT
DTSTART;TZID=UTC:20240614T193000
DTEND;TZID=UTC:20240614T213000
DTSTAMP:20260422T112432
CREATED:20240530T141332Z
LAST-MODIFIED:20240530T141332Z
UID:10001315-1718393400-1718400600@www.discoversouthkesteven.com
SUMMARY:LYR
DESCRIPTION:LYR are Poet Laureate Simon Armitage\, singer-songwriter Richard Walters\, and multi-instrumentalist/producer Patrick James Pearson. Formed in 2018\, LYR are now a firmly established part of the contemporary music scene\, with regular radio airplay across the networks\, a critically acclaimed debut album\, Call In The Crash Team\, and over two million streams to their name. They have appeared at many major festivals over the past three years including Green Man and Blu Dot and completed UK tours and sell-out events at venues such as the Howard Assembly Rooms in Leeds. \nHaving released their debut album through Decca label Mercury KX\, as well as releasing music through the traditional channels the LYR ethos is very much about pursuing other creative ventures and bespoke projects. In 2020 they released the song Lockdown featuring actress Florence Pugh\, to raise money for the charity Refuge\, in support of abused women. Commissioned by Durham Brass Festival to compose work around the theme of County Durham’s struggling pit villages\, in July of this year LYR delivered a passionate and culturally significant performance in Durham Cathedral\, backed by Easington Colliery Band. The making of the work was recorded in the documentary Firm As A Rock We Stand and released as an EP under the same title. In spring of this year LYR devised and produced a full-scale promenade musical and dramatic performance of the ancient poem Gilgamesh with students at Liverpool Institute of Performing Arts.  LYR specialise in collaborations with filmmakers\, choirs\, orchestras\, and many different kinds of artists with a view to making a distinctive brand of art\, but one that always has memorable songs\, melodies and words as its foundation stones. \nPhoto credit – Katie Silvester \nImportant Information \nVenue: Stamford Arts Centre\, Ballroom \nTickets: £20 standard
URL:https://www.discoversouthkesteven.com/event/lyr/
LOCATION:Stamford Arts Centre\, Ballroom\, 27 St Mary's Street\, PE9 2DL
CATEGORIES:Arts centre promoted events,Music,Stamford poetry events
ATTACH;FMTTYPE=image/jpeg:https://www.discoversouthkesteven.com/wp-content/uploads/2024/05/LYR.jpeg
END:VEVENT
BEGIN:VEVENT
DTSTART;TZID=UTC:20240615T193000
DTEND;TZID=UTC:20240615T220000
DTSTAMP:20260422T112432
CREATED:20240606T114212Z
LAST-MODIFIED:20240606T114212Z
UID:10001338-1718479800-1718488800@www.discoversouthkesteven.com
SUMMARY:St Peter's Singers Concert "Songs of the Sea" at Grimsthorpe Castle
DESCRIPTION:The Vanbrugh Hall\, 7.30pm. \nA programme of music by Charles Villiers Stanford\, Vaughan Williams\, Holst and others\, evoking the ocean and celebrating the lives of those who sail in its waters. Tickets include fizz and canapes! \nTickets are £20 and can be purchased via St Peter’s Singers website below.
URL:https://www.discoversouthkesteven.com/event/st-peters-singers-concert-songs-of-the-sea-at-grimsthorpe-castle/
LOCATION:Grimsthorpe Castle\, Grimsthorpe\, Bourne\, Lincolnshire\, PE10 0LY\, United Kingdom
CATEGORIES:local events,Music
ATTACH;FMTTYPE=image/jpeg:https://www.discoversouthkesteven.com/wp-content/uploads/2024/05/St-Peters-Singers-concert-2023.jpg
ORGANIZER;CN="Grimsthorpe Castle":MAILTO:events@grimsthorpe.co.uk
END:VEVENT
BEGIN:VEVENT
DTSTART;TZID=UTC:20240622T170000
DTEND;TZID=UTC:20240622T230000
DTSTAMP:20260422T112432
CREATED:20240606T115000Z
LAST-MODIFIED:20240606T115000Z
UID:10001331-1719075600-1719097200@www.discoversouthkesteven.com
SUMMARY:Summer Solstice Festival
DESCRIPTION:An evening of live music\, food and drink. \nEnjoy an evening in the beautiful setting of the Bowthorpe Oak with live music from Revolver\, 23 Reasons\, Marcella Woods and The Official N Trance!!
URL:https://www.discoversouthkesteven.com/event/summer-solstice-festival/
LOCATION:Bowthorpe Park Farm\, Bowthorpe Park Farm\, Witham on the Hill\, Bourne\, PE10 0JG\, United Kingdom
CATEGORIES:Food and Drink,local events,Music
ATTACH;FMTTYPE=image/jpeg:https://www.discoversouthkesteven.com/wp-content/uploads/2024/05/IMG_3846.jpeg
ORGANIZER;CN="George Blanchard":MAILTO:Info@bowthorpeparkfarm.co.uk
END:VEVENT
BEGIN:VEVENT
DTSTART;TZID=UTC:20240629T193000
DTEND;TZID=UTC:20240629T213000
DTSTAMP:20260422T112432
CREATED:20240531T091715Z
LAST-MODIFIED:20240531T091715Z
UID:10001361-1719689400-1719696600@www.discoversouthkesteven.com
SUMMARY:Hejira - Celebrating Joni Mitchell
DESCRIPTION:‘Hejira’ is a 7-piece band set up to celebrate and honour the masterpiece works of Joni Mitchell\, mostly from the late ‘70s. Having released the albums ‘The Hissing of Summer Lawns’\, ‘Hejira’\, ‘Don Juan’s Reckless Daughter’ and ‘Mingus’  (regarded as her ‘jazz period’)\, Joni then toured briefly with a band formed from the crème de la crème of contemporaneous jazz musicians (Metheny\, Mays\, Brecker\, Pastorius and Alias). The tour was recorded\, producing the outstanding live album\, ‘Shadows And Light’; it is from this album that the band Hejira is drawing the body of its repertoire. Comprising highly experienced jazz musicians\, this band is fronted by the brilliant Hattie Whitehead who not only has – in her own way – assimilated the poise\, power and beauty of Joni’s vocals\, but also plays guitar with Joni’s stylistic mannerisms. Expect an evening of the ‘great’ songs from Mitchell’s back catalogue\, such as ‘Amelia’\, ‘Woodstock’\, ‘A Case Of You’\, ’Song For Sharon’\, ‘Edith And The Kingpin’ etc.! \nHattie Whitehead ~ vocals & guitar \nOllie Weston ~ tenor & soprano saxophones \nChris Eldred ~ keyboards \nPete Oxley ~ guitar \nDave Jones ~ bass \nRick Finlay ~ drums \nMarc Cecil ~ percussion \nImportant Information \nVenue: Stamford Arts Centre\, Ballroom \nTickets: £20 (£18 concessions) \nRunning Time: 2 hours (including interval)
URL:https://www.discoversouthkesteven.com/event/hejira-celebrating-joni-mitchell/
LOCATION:Stamford Arts Centre\, Ballroom\, 27 St Mary's Street\, PE9 2DL
CATEGORIES:Arts centre promoted events,Music
ATTACH;FMTTYPE=image/jpeg:https://www.discoversouthkesteven.com/wp-content/uploads/2024/05/facebook-event.jpg
END:VEVENT
BEGIN:VEVENT
DTSTART;TZID=UTC:20240629T193000
DTEND;TZID=UTC:20240629T213000
DTSTAMP:20260422T112432
CREATED:20240531T092302Z
LAST-MODIFIED:20240531T092302Z
UID:10001362-1719689400-1719696600@www.discoversouthkesteven.com
SUMMARY:Grand Summer Finale - Stamford Chamber Orchestra
DESCRIPTION:Come and enjoy some wonderful summer music to end the season as we play Brahms’ magnificent Haydn Variations\, along with the ever-popular Scottish Symphony by Mendelssohn and the gorgeous Strauss Serenade for Winds. \nRear entrance\, with disabled access\, off North Street PE9 2ZS \nWe have a small car park at the rear; nearby public car parks on North Street & Scotgate are free on Sundays & in the evenings. \nhttps://www.stamfordchamberorchestra.org \nImportant Information \nStart: 7.30pm \nVenue: Stamford Methodist Church\, Barn Hill \nWheelchair access and parking at rear (phone Methodist Church for details)
URL:https://www.discoversouthkesteven.com/event/grand-summer-finale-stamford-chamber-orchestra/
LOCATION:Stamford Methodist Church\, Orion House\, 11 Barn Hill\, Stamford\, PE9 2AE
CATEGORIES:local events,Music
ATTACH;FMTTYPE=image/jpeg:https://www.discoversouthkesteven.com/wp-content/uploads/2024/05/stamford-chamber-orchestra.jpg
END:VEVENT
END:VCALENDAR