BEGIN:VCALENDAR
VERSION:2.0
PRODID:-//Discover South Kesteven - ECPv6.15.11//NONSGML v1.0//EN
CALSCALE:GREGORIAN
METHOD:PUBLISH
X-ORIGINAL-URL:https://www.discoversouthkesteven.com
X-WR-CALDESC:Events for Discover South Kesteven
REFRESH-INTERVAL;VALUE=DURATION:PT1H
X-Robots-Tag:noindex
X-PUBLISHED-TTL:PT1H
BEGIN:VTIMEZONE
TZID:Europe/London
BEGIN:DAYLIGHT
TZOFFSETFROM:+0000
TZOFFSETTO:+0100
TZNAME:BST
DTSTART:20230326T010000
END:DAYLIGHT
BEGIN:STANDARD
TZOFFSETFROM:+0100
TZOFFSETTO:+0000
TZNAME:GMT
DTSTART:20231029T010000
END:STANDARD
BEGIN:DAYLIGHT
TZOFFSETFROM:+0000
TZOFFSETTO:+0100
TZNAME:BST
DTSTART:20240331T010000
END:DAYLIGHT
BEGIN:STANDARD
TZOFFSETFROM:+0100
TZOFFSETTO:+0000
TZNAME:GMT
DTSTART:20241027T010000
END:STANDARD
BEGIN:DAYLIGHT
TZOFFSETFROM:+0000
TZOFFSETTO:+0100
TZNAME:BST
DTSTART:20250330T010000
END:DAYLIGHT
BEGIN:STANDARD
TZOFFSETFROM:+0100
TZOFFSETTO:+0000
TZNAME:GMT
DTSTART:20251026T010000
END:STANDARD
END:VTIMEZONE
BEGIN:VEVENT
DTSTART;TZID=Europe/London:20240716T170000
DTEND;TZID=Europe/London:20240716T203000
DTSTAMP:20260423T080216
CREATED:20240621T085646Z
LAST-MODIFIED:20240707T215808Z
UID:10002866-1721149200-1721161800@www.discoversouthkesteven.com
SUMMARY:Wild Arts Opera Evening
DESCRIPTION:Join us at the enchanting Belvoir Castle for a specially curated 75-minute program of musical favourites. \nBring a picnic and enjoy musical classics from Mozart to Rossini built around a love story and performed by four world-class singers and a string quintet of exceptional musicians. \nGuests are welcome to arrive from from 5:00PM to set up a picnic-spot on the lawn (food and drink will be available on site). Alternatively\, a VIP ticket will take you through for canapés and prosecco in the Aviary Tea Room from 5.30pm\, and will include another glass of prosecco and a light finger buffet in the interval. \nThe performance will start at 6.30pm and there will be 30-minute interval around 7.10pm. The show will finish around 8.15pm. \nwww.wildarts.org.uk | info@wildarts.org.uk\nBOOK TICKETS HERE: https://www.tickettailor.com/events/wildarts/1220669
URL:https://www.discoversouthkesteven.com/event/wild-arts-opera-evening/
LOCATION:Belvoir Castle\, Woolsthorpe Rd\, Grantham\, NG32 1PA\, United Kingdom
CATEGORIES:Family,History/Heritage,Music
ATTACH;FMTTYPE=image/png:https://www.discoversouthkesteven.com/wp-content/uploads/2024/06/Copy-of-Wild-Arts-Opera-Evening-2021-Martha-Jones.png
ORGANIZER;CN="Wild Arts":MAILTO:info@wildarts.org.uk
END:VEVENT
END:VCALENDAR