BEGIN:VCALENDAR
VERSION:2.0
PRODID:-//Discover South Kesteven - ECPv6.15.11//NONSGML v1.0//EN
CALSCALE:GREGORIAN
METHOD:PUBLISH
X-ORIGINAL-URL:https://www.discoversouthkesteven.com
X-WR-CALDESC:Events for Discover South Kesteven
REFRESH-INTERVAL;VALUE=DURATION:PT1H
X-Robots-Tag:noindex
X-PUBLISHED-TTL:PT1H
BEGIN:VTIMEZONE
TZID:Europe/London
BEGIN:DAYLIGHT
TZOFFSETFROM:+0000
TZOFFSETTO:+0100
TZNAME:BST
DTSTART:20240331T010000
END:DAYLIGHT
BEGIN:STANDARD
TZOFFSETFROM:+0100
TZOFFSETTO:+0000
TZNAME:GMT
DTSTART:20241027T010000
END:STANDARD
BEGIN:DAYLIGHT
TZOFFSETFROM:+0000
TZOFFSETTO:+0100
TZNAME:BST
DTSTART:20250330T010000
END:DAYLIGHT
BEGIN:STANDARD
TZOFFSETFROM:+0100
TZOFFSETTO:+0000
TZNAME:GMT
DTSTART:20251026T010000
END:STANDARD
BEGIN:DAYLIGHT
TZOFFSETFROM:+0000
TZOFFSETTO:+0100
TZNAME:BST
DTSTART:20260329T010000
END:DAYLIGHT
BEGIN:STANDARD
TZOFFSETFROM:+0100
TZOFFSETTO:+0000
TZNAME:GMT
DTSTART:20261025T010000
END:STANDARD
END:VTIMEZONE
BEGIN:VEVENT
DTSTART;VALUE=DATE:20250904
DTEND;VALUE=DATE:20250908
DTSTAMP:20260422T000337
CREATED:20250806T113245Z
LAST-MODIFIED:20250806T113245Z
UID:10002948-1756944000-1757289599@www.discoversouthkesteven.com
SUMMARY:Nene Valley Rock Festival at Grimsthorpe Castle
DESCRIPTION:Get ready for a rocking weekend as we play host to the Nene Valley Rock Fest\, featuring 3 stages and 60 bands playing the best classic\, progressive and blues rock! \nGreat tunes and good vibes with a festival atmosphere that’s bound to make your weekend unforgettable!
URL:https://www.discoversouthkesteven.com/event/nene-valley-rock-festival-at-grimsthorpe-castle/
LOCATION:Grimsthorpe Castle\, Grimsthorpe\, Bourne\, Lincolnshire\, PE10 0LY\, United Kingdom
CATEGORIES:History/Heritage,Music
ATTACH;FMTTYPE=image/png:https://www.discoversouthkesteven.com/wp-content/uploads/2025/08/Website-event-photo.png
ORGANIZER;CN="Grimsthorpe Castle":MAILTO:events@grimsthorpe.co.uk
END:VEVENT
BEGIN:VEVENT
DTSTART;TZID=Europe/London:20250905T200000
DTEND;TZID=Europe/London:20250905T223000
DTSTAMP:20260422T000337
CREATED:20250731T110554Z
LAST-MODIFIED:20250731T110554Z
UID:10002931-1757102400-1757111400@www.discoversouthkesteven.com
SUMMARY:Nigel Price - Stamford Jazz
DESCRIPTION:Our next jazz event will be taking place in our new home of jazz – the Ballroom! 🎷 We’ll be retaining the raw and intimate vibes we all love from Stamford Jazz\, but in a space that offers bigger and better opportunities for these increasingly popular evenings. 𝗡𝗜𝗚𝗘𝗟 𝗣𝗥𝗜𝗖𝗘 will be headlining\, with an exciting programme of high octane guitar led swing! ✨\n“Nigel Price is probably the most dynamic and gifted guitarist on the British jazz scene today” – ALL ABOUT JAZZ\n🎟️ https://tinyurl.com/26urhsyc\n📍 Friday 5th September 8pm
URL:https://www.discoversouthkesteven.com/event/nigel-price-stamford-jazz/
LOCATION:Stamford Arts Centre\, Stamford Arts Centre\, 27 St Mary's St\,\, Stamford\, PE9 2DL
CATEGORIES:Arts centre promoted events,Music
ATTACH;FMTTYPE=image/jpeg:https://www.discoversouthkesteven.com/wp-content/uploads/2025/07/526214063_1309641404502320_7638995290206057978_n.jpg
END:VEVENT
BEGIN:VEVENT
DTSTART;TZID=Europe/London:20250912T190000
DTEND;TZID=Europe/London:20250912T213000
DTSTAMP:20260422T000337
CREATED:20250909T140812Z
LAST-MODIFIED:20250909T140812Z
UID:10002976-1757703600-1757712600@www.discoversouthkesteven.com
SUMMARY:A Tribute to Elvis!
DESCRIPTION:his summer\, the King of Rock ‘n’ Roll returns in spirit to the majestic Belvoir Castle\, nestled on the border of Leicestershire and Lincolnshire\, for a one-night-only tribute concert honoring Elvis Presley’s 90th birthday. Prepare for an unforgettable evening of live music\, nostalgia\, and heartfelt homage led by Elvis tribute artist\, Nick Pacey. \nSet in the breathtaking grounds of one of England’s most iconic castles\, this open-air performance will take you on a journey through the golden eras of Elvis’s career – from his early hits to his Las Vegas glory days. \nWhat to Expect: \nNick Pacey Live: A captivating performance channeling the voice\, charisma\, and spirit of Elvis\nFull Band Experience: A dynamic live band delivering all the classics with passion and precision\nUnforgettable Setlist: Timeless hits like “Can’t Help Falling in Love”\, “Suspicious Minds”\, “Jailhouse Rock”\, and many more\nScenic Setting: Stunning views and rich heritage at the historic Belvoir Castle estate\, situated right where Leicestershire meets Lincolnshire\nFood & Drink: \nSavour Belvoir’s delicious take-away menu including our own farm-reared beef and lamb from the Hungry Belvoir Food Truck\, and enjoy a refreshing drink from the Thirsty Belvoir Bar\, offering a handpicked selection of wines\, craft beers\, and soft beverages to complement your summer evening. \nPlease Note: Please bring chairs and blankets\, outside food and drink such as picnics are not permitted at this event. All food and drink must be purchased on the premisis.
URL:https://www.discoversouthkesteven.com/event/a-tribute-to-elvis/
LOCATION:Belvoir Castle\, Woolsthorpe Rd\, Grantham\, NG32 1PA\, United Kingdom
CATEGORIES:Music
ATTACH;FMTTYPE=image/png:https://www.discoversouthkesteven.com/wp-content/uploads/2025/09/Nick-Pacey-A-Tribute-to-Elvis.png
END:VEVENT
BEGIN:VEVENT
DTSTART;TZID=Europe/London:20250913T100000
DTEND;TZID=Europe/London:20250914T170000
DTSTAMP:20260422T000337
CREATED:20250805T095934Z
LAST-MODIFIED:20250805T095934Z
UID:10002935-1757757600-1757869200@www.discoversouthkesteven.com
SUMMARY:Belton Community Festival
DESCRIPTION:After a successful debut in 2024\, Belton’s Community Festival is back! We’re opening up access to art\, heritage\, and education once again\, with a whole host of activities\, talks and demonstrations running throughout the weekend. \nFrom dance and art\, to music and demonstrations\, a wide range of local groups and organisations are coming to Belton to showcase the amazing work they do as part of our local community. \nDiscover more about what’s happening on your doorstep and feel inspired. \nGrab a treat from one of the food vendors while you explore the variety of stalls on the day. \nSupport the local community and visit the arts and crafts stalls\, with a range of handcrafted\, locally produced items on offer. \nComplete with a bursting event schedule on the stage to keep you entertained and an array of activities over the weekend\, including a Big Belton Butterfly Count sponsored by Lincolnshire County Council\, there’s something for everyone. \nThe festival will run on the 13 and 14 Sep\, from 10am to 5pm\, and free entry to the entire estate\, including the mansion and gardens\, is being offered across both days. \nThe event is sponsored by BEONTVUK and Chef Abul.
URL:https://www.discoversouthkesteven.com/event/belton-community-festival/
LOCATION:Belton House\, Belton House\, High Road\, Belton\, Grantham\, Lincolnshire\, NG32 2LW\, United Kingdom
CATEGORIES:Dance,Family,Food and Drink,History/Heritage,local events,Market,Music
ATTACH;FMTTYPE=image/jpeg:https://www.discoversouthkesteven.com/wp-content/uploads/2025/08/Stalls-at-Belton-Community-Festival-credit-Instinctive-Photography-scaled.jpg
END:VEVENT
BEGIN:VEVENT
DTSTART;TZID=Europe/London:20250927T093000
DTEND;TZID=Europe/London:20250927T123000
DTSTAMP:20260422T000337
CREATED:20250916T081821Z
LAST-MODIFIED:20250916T081821Z
UID:10003024-1758965400-1758976200@www.discoversouthkesteven.com
SUMMARY:Come and be a Chorister
DESCRIPTION:A workshop with Dr Tim Williams and Choristers of St Wulfram’s Church Choir\, enjoying a morning of music and singing! For children in school years 2-8.
URL:https://www.discoversouthkesteven.com/event/come-and-be-a-chorister/
LOCATION:St Wulfram’s Church\, Grantham\, Church Street\, Grantham\, Lincolnshire\, NG31 6RR\, United Kingdom
CATEGORIES:Music,Workshops
ATTACH;FMTTYPE=image/jpeg:https://www.discoversouthkesteven.com/wp-content/uploads/2025/09/Come-and-be-a-chorister-poster-1.jpg
ORGANIZER;CN="St. Wulfram's Church Choir":MAILTO:choir@stwulframs.com
END:VEVENT
END:VCALENDAR