BEGIN:VCALENDAR
VERSION:2.0
PRODID:-//Discover South Kesteven - ECPv6.15.11//NONSGML v1.0//EN
CALSCALE:GREGORIAN
METHOD:PUBLISH
X-WR-CALNAME:Discover South Kesteven
X-ORIGINAL-URL:https://www.discoversouthkesteven.com
X-WR-CALDESC:Events for Discover South Kesteven
REFRESH-INTERVAL;VALUE=DURATION:PT1H
X-Robots-Tag:noindex
X-PUBLISHED-TTL:PT1H
BEGIN:VTIMEZONE
TZID:Europe/London
BEGIN:DAYLIGHT
TZOFFSETFROM:+0000
TZOFFSETTO:+0100
TZNAME:BST
DTSTART:20260329T010000
END:DAYLIGHT
BEGIN:STANDARD
TZOFFSETFROM:+0100
TZOFFSETTO:+0000
TZNAME:GMT
DTSTART:20261025T010000
END:STANDARD
BEGIN:DAYLIGHT
TZOFFSETFROM:+0000
TZOFFSETTO:+0100
TZNAME:BST
DTSTART:20270328T010000
END:DAYLIGHT
BEGIN:STANDARD
TZOFFSETFROM:+0100
TZOFFSETTO:+0000
TZNAME:GMT
DTSTART:20271031T010000
END:STANDARD
BEGIN:DAYLIGHT
TZOFFSETFROM:+0000
TZOFFSETTO:+0100
TZNAME:BST
DTSTART:20280326T010000
END:DAYLIGHT
BEGIN:STANDARD
TZOFFSETFROM:+0100
TZOFFSETTO:+0000
TZNAME:GMT
DTSTART:20281029T010000
END:STANDARD
END:VTIMEZONE
BEGIN:VEVENT
DTSTART;TZID=Europe/London:20270610T080000
DTEND;TZID=Europe/London:20270610T150000
DTSTAMP:20260420T051336
CREATED:20240612T111736Z
LAST-MODIFIED:20240612T111736Z
UID:10002494-1812614400-1812639600@www.discoversouthkesteven.com
SUMMARY:Bourne Weekly Market
DESCRIPTION:BOURNE MARKET ON THURSDAYS:\nThis small market is held every Thursday in the car park immediately behind the Corn Exchange building. There are a few traders\, both casual and regular.  \nThank you for visiting your local market. Traders and local businesses are incredibly grateful for your support!
URL:https://www.discoversouthkesteven.com/event/bourne-weekly-market/2027-06-10/
LOCATION:Bourne Corn Exchange\, Corn Exchange\, Bourne\, Lincolnshire\, PE10 9EF\, United Kingdom
CATEGORIES:Food and Drink,local events,Market
ATTACH;FMTTYPE=image/jpeg:https://www.discoversouthkesteven.com/wp-content/uploads/2024/06/b.jpg
END:VEVENT
BEGIN:VEVENT
DTSTART;TZID=Europe/London:20270617T080000
DTEND;TZID=Europe/London:20270617T150000
DTSTAMP:20260420T051336
CREATED:20240612T111736Z
LAST-MODIFIED:20240612T111736Z
UID:10002495-1813219200-1813244400@www.discoversouthkesteven.com
SUMMARY:Bourne Weekly Market
DESCRIPTION:BOURNE MARKET ON THURSDAYS:\nThis small market is held every Thursday in the car park immediately behind the Corn Exchange building. There are a few traders\, both casual and regular.  \nThank you for visiting your local market. Traders and local businesses are incredibly grateful for your support!
URL:https://www.discoversouthkesteven.com/event/bourne-weekly-market/2027-06-17/
LOCATION:Bourne Corn Exchange\, Corn Exchange\, Bourne\, Lincolnshire\, PE10 9EF\, United Kingdom
CATEGORIES:Food and Drink,local events,Market
ATTACH;FMTTYPE=image/jpeg:https://www.discoversouthkesteven.com/wp-content/uploads/2024/06/b.jpg
END:VEVENT
BEGIN:VEVENT
DTSTART;TZID=Europe/London:20270624T080000
DTEND;TZID=Europe/London:20270624T150000
DTSTAMP:20260420T051336
CREATED:20240612T111736Z
LAST-MODIFIED:20240612T111736Z
UID:10002496-1813824000-1813849200@www.discoversouthkesteven.com
SUMMARY:Bourne Weekly Market
DESCRIPTION:BOURNE MARKET ON THURSDAYS:\nThis small market is held every Thursday in the car park immediately behind the Corn Exchange building. There are a few traders\, both casual and regular.  \nThank you for visiting your local market. Traders and local businesses are incredibly grateful for your support!
URL:https://www.discoversouthkesteven.com/event/bourne-weekly-market/2027-06-24/
LOCATION:Bourne Corn Exchange\, Corn Exchange\, Bourne\, Lincolnshire\, PE10 9EF\, United Kingdom
CATEGORIES:Food and Drink,local events,Market
ATTACH;FMTTYPE=image/jpeg:https://www.discoversouthkesteven.com/wp-content/uploads/2024/06/b.jpg
END:VEVENT
BEGIN:VEVENT
DTSTART;TZID=Europe/London:20270701T080000
DTEND;TZID=Europe/London:20270701T150000
DTSTAMP:20260420T051336
CREATED:20240612T111736Z
LAST-MODIFIED:20240612T111736Z
UID:10002497-1814428800-1814454000@www.discoversouthkesteven.com
SUMMARY:Bourne Weekly Market
DESCRIPTION:BOURNE MARKET ON THURSDAYS:\nThis small market is held every Thursday in the car park immediately behind the Corn Exchange building. There are a few traders\, both casual and regular.  \nThank you for visiting your local market. Traders and local businesses are incredibly grateful for your support!
URL:https://www.discoversouthkesteven.com/event/bourne-weekly-market/2027-07-01/
LOCATION:Bourne Corn Exchange\, Corn Exchange\, Bourne\, Lincolnshire\, PE10 9EF\, United Kingdom
CATEGORIES:Food and Drink,local events,Market
ATTACH;FMTTYPE=image/jpeg:https://www.discoversouthkesteven.com/wp-content/uploads/2024/06/b.jpg
END:VEVENT
BEGIN:VEVENT
DTSTART;TZID=Europe/London:20270708T080000
DTEND;TZID=Europe/London:20270708T150000
DTSTAMP:20260420T051336
CREATED:20240612T111736Z
LAST-MODIFIED:20240612T111736Z
UID:10002498-1815033600-1815058800@www.discoversouthkesteven.com
SUMMARY:Bourne Weekly Market
DESCRIPTION:BOURNE MARKET ON THURSDAYS:\nThis small market is held every Thursday in the car park immediately behind the Corn Exchange building. There are a few traders\, both casual and regular.  \nThank you for visiting your local market. Traders and local businesses are incredibly grateful for your support!
URL:https://www.discoversouthkesteven.com/event/bourne-weekly-market/2027-07-08/
LOCATION:Bourne Corn Exchange\, Corn Exchange\, Bourne\, Lincolnshire\, PE10 9EF\, United Kingdom
CATEGORIES:Food and Drink,local events,Market
ATTACH;FMTTYPE=image/jpeg:https://www.discoversouthkesteven.com/wp-content/uploads/2024/06/b.jpg
END:VEVENT
BEGIN:VEVENT
DTSTART;TZID=Europe/London:20270715T080000
DTEND;TZID=Europe/London:20270715T150000
DTSTAMP:20260420T051336
CREATED:20240612T111736Z
LAST-MODIFIED:20240612T111736Z
UID:10002499-1815638400-1815663600@www.discoversouthkesteven.com
SUMMARY:Bourne Weekly Market
DESCRIPTION:BOURNE MARKET ON THURSDAYS:\nThis small market is held every Thursday in the car park immediately behind the Corn Exchange building. There are a few traders\, both casual and regular.  \nThank you for visiting your local market. Traders and local businesses are incredibly grateful for your support!
URL:https://www.discoversouthkesteven.com/event/bourne-weekly-market/2027-07-15/
LOCATION:Bourne Corn Exchange\, Corn Exchange\, Bourne\, Lincolnshire\, PE10 9EF\, United Kingdom
CATEGORIES:Food and Drink,local events,Market
ATTACH;FMTTYPE=image/jpeg:https://www.discoversouthkesteven.com/wp-content/uploads/2024/06/b.jpg
END:VEVENT
BEGIN:VEVENT
DTSTART;TZID=Europe/London:20270722T080000
DTEND;TZID=Europe/London:20270722T150000
DTSTAMP:20260420T051336
CREATED:20240612T111736Z
LAST-MODIFIED:20240612T111736Z
UID:10002500-1816243200-1816268400@www.discoversouthkesteven.com
SUMMARY:Bourne Weekly Market
DESCRIPTION:BOURNE MARKET ON THURSDAYS:\nThis small market is held every Thursday in the car park immediately behind the Corn Exchange building. There are a few traders\, both casual and regular.  \nThank you for visiting your local market. Traders and local businesses are incredibly grateful for your support!
URL:https://www.discoversouthkesteven.com/event/bourne-weekly-market/2027-07-22/
LOCATION:Bourne Corn Exchange\, Corn Exchange\, Bourne\, Lincolnshire\, PE10 9EF\, United Kingdom
CATEGORIES:Food and Drink,local events,Market
ATTACH;FMTTYPE=image/jpeg:https://www.discoversouthkesteven.com/wp-content/uploads/2024/06/b.jpg
END:VEVENT
BEGIN:VEVENT
DTSTART;TZID=Europe/London:20270729T080000
DTEND;TZID=Europe/London:20270729T150000
DTSTAMP:20260420T051336
CREATED:20240612T111736Z
LAST-MODIFIED:20240612T111736Z
UID:10002501-1816848000-1816873200@www.discoversouthkesteven.com
SUMMARY:Bourne Weekly Market
DESCRIPTION:BOURNE MARKET ON THURSDAYS:\nThis small market is held every Thursday in the car park immediately behind the Corn Exchange building. There are a few traders\, both casual and regular.  \nThank you for visiting your local market. Traders and local businesses are incredibly grateful for your support!
URL:https://www.discoversouthkesteven.com/event/bourne-weekly-market/2027-07-29/
LOCATION:Bourne Corn Exchange\, Corn Exchange\, Bourne\, Lincolnshire\, PE10 9EF\, United Kingdom
CATEGORIES:Food and Drink,local events,Market
ATTACH;FMTTYPE=image/jpeg:https://www.discoversouthkesteven.com/wp-content/uploads/2024/06/b.jpg
END:VEVENT
BEGIN:VEVENT
DTSTART;TZID=Europe/London:20270805T080000
DTEND;TZID=Europe/London:20270805T150000
DTSTAMP:20260420T051336
CREATED:20240612T111736Z
LAST-MODIFIED:20240612T111736Z
UID:10002502-1817452800-1817478000@www.discoversouthkesteven.com
SUMMARY:Bourne Weekly Market
DESCRIPTION:BOURNE MARKET ON THURSDAYS:\nThis small market is held every Thursday in the car park immediately behind the Corn Exchange building. There are a few traders\, both casual and regular.  \nThank you for visiting your local market. Traders and local businesses are incredibly grateful for your support!
URL:https://www.discoversouthkesteven.com/event/bourne-weekly-market/2027-08-05/
LOCATION:Bourne Corn Exchange\, Corn Exchange\, Bourne\, Lincolnshire\, PE10 9EF\, United Kingdom
CATEGORIES:Food and Drink,local events,Market
ATTACH;FMTTYPE=image/jpeg:https://www.discoversouthkesteven.com/wp-content/uploads/2024/06/b.jpg
END:VEVENT
BEGIN:VEVENT
DTSTART;TZID=Europe/London:20270812T080000
DTEND;TZID=Europe/London:20270812T150000
DTSTAMP:20260420T051336
CREATED:20240612T111736Z
LAST-MODIFIED:20240612T111736Z
UID:10002503-1818057600-1818082800@www.discoversouthkesteven.com
SUMMARY:Bourne Weekly Market
DESCRIPTION:BOURNE MARKET ON THURSDAYS:\nThis small market is held every Thursday in the car park immediately behind the Corn Exchange building. There are a few traders\, both casual and regular.  \nThank you for visiting your local market. Traders and local businesses are incredibly grateful for your support!
URL:https://www.discoversouthkesteven.com/event/bourne-weekly-market/2027-08-12/
LOCATION:Bourne Corn Exchange\, Corn Exchange\, Bourne\, Lincolnshire\, PE10 9EF\, United Kingdom
CATEGORIES:Food and Drink,local events,Market
ATTACH;FMTTYPE=image/jpeg:https://www.discoversouthkesteven.com/wp-content/uploads/2024/06/b.jpg
END:VEVENT
BEGIN:VEVENT
DTSTART;TZID=Europe/London:20270819T080000
DTEND;TZID=Europe/London:20270819T150000
DTSTAMP:20260420T051336
CREATED:20240612T111736Z
LAST-MODIFIED:20240612T111736Z
UID:10002504-1818662400-1818687600@www.discoversouthkesteven.com
SUMMARY:Bourne Weekly Market
DESCRIPTION:BOURNE MARKET ON THURSDAYS:\nThis small market is held every Thursday in the car park immediately behind the Corn Exchange building. There are a few traders\, both casual and regular.  \nThank you for visiting your local market. Traders and local businesses are incredibly grateful for your support!
URL:https://www.discoversouthkesteven.com/event/bourne-weekly-market/2027-08-19/
LOCATION:Bourne Corn Exchange\, Corn Exchange\, Bourne\, Lincolnshire\, PE10 9EF\, United Kingdom
CATEGORIES:Food and Drink,local events,Market
ATTACH;FMTTYPE=image/jpeg:https://www.discoversouthkesteven.com/wp-content/uploads/2024/06/b.jpg
END:VEVENT
BEGIN:VEVENT
DTSTART;TZID=Europe/London:20270826T080000
DTEND;TZID=Europe/London:20270826T150000
DTSTAMP:20260420T051336
CREATED:20240612T111736Z
LAST-MODIFIED:20240612T111736Z
UID:10002505-1819267200-1819292400@www.discoversouthkesteven.com
SUMMARY:Bourne Weekly Market
DESCRIPTION:BOURNE MARKET ON THURSDAYS:\nThis small market is held every Thursday in the car park immediately behind the Corn Exchange building. There are a few traders\, both casual and regular.  \nThank you for visiting your local market. Traders and local businesses are incredibly grateful for your support!
URL:https://www.discoversouthkesteven.com/event/bourne-weekly-market/2027-08-26/
LOCATION:Bourne Corn Exchange\, Corn Exchange\, Bourne\, Lincolnshire\, PE10 9EF\, United Kingdom
CATEGORIES:Food and Drink,local events,Market
ATTACH;FMTTYPE=image/jpeg:https://www.discoversouthkesteven.com/wp-content/uploads/2024/06/b.jpg
END:VEVENT
BEGIN:VEVENT
DTSTART;TZID=Europe/London:20270902T080000
DTEND;TZID=Europe/London:20270902T150000
DTSTAMP:20260420T051336
CREATED:20240612T111736Z
LAST-MODIFIED:20240612T111736Z
UID:10002506-1819872000-1819897200@www.discoversouthkesteven.com
SUMMARY:Bourne Weekly Market
DESCRIPTION:BOURNE MARKET ON THURSDAYS:\nThis small market is held every Thursday in the car park immediately behind the Corn Exchange building. There are a few traders\, both casual and regular.  \nThank you for visiting your local market. Traders and local businesses are incredibly grateful for your support!
URL:https://www.discoversouthkesteven.com/event/bourne-weekly-market/2027-09-02/
LOCATION:Bourne Corn Exchange\, Corn Exchange\, Bourne\, Lincolnshire\, PE10 9EF\, United Kingdom
CATEGORIES:Food and Drink,local events,Market
ATTACH;FMTTYPE=image/jpeg:https://www.discoversouthkesteven.com/wp-content/uploads/2024/06/b.jpg
END:VEVENT
BEGIN:VEVENT
DTSTART;TZID=Europe/London:20270909T080000
DTEND;TZID=Europe/London:20270909T150000
DTSTAMP:20260420T051336
CREATED:20240612T111736Z
LAST-MODIFIED:20240612T111736Z
UID:10002507-1820476800-1820502000@www.discoversouthkesteven.com
SUMMARY:Bourne Weekly Market
DESCRIPTION:BOURNE MARKET ON THURSDAYS:\nThis small market is held every Thursday in the car park immediately behind the Corn Exchange building. There are a few traders\, both casual and regular.  \nThank you for visiting your local market. Traders and local businesses are incredibly grateful for your support!
URL:https://www.discoversouthkesteven.com/event/bourne-weekly-market/2027-09-09/
LOCATION:Bourne Corn Exchange\, Corn Exchange\, Bourne\, Lincolnshire\, PE10 9EF\, United Kingdom
CATEGORIES:Food and Drink,local events,Market
ATTACH;FMTTYPE=image/jpeg:https://www.discoversouthkesteven.com/wp-content/uploads/2024/06/b.jpg
END:VEVENT
BEGIN:VEVENT
DTSTART;TZID=Europe/London:20270916T080000
DTEND;TZID=Europe/London:20270916T150000
DTSTAMP:20260420T051336
CREATED:20240612T111736Z
LAST-MODIFIED:20240612T111736Z
UID:10002508-1821081600-1821106800@www.discoversouthkesteven.com
SUMMARY:Bourne Weekly Market
DESCRIPTION:BOURNE MARKET ON THURSDAYS:\nThis small market is held every Thursday in the car park immediately behind the Corn Exchange building. There are a few traders\, both casual and regular.  \nThank you for visiting your local market. Traders and local businesses are incredibly grateful for your support!
URL:https://www.discoversouthkesteven.com/event/bourne-weekly-market/2027-09-16/
LOCATION:Bourne Corn Exchange\, Corn Exchange\, Bourne\, Lincolnshire\, PE10 9EF\, United Kingdom
CATEGORIES:Food and Drink,local events,Market
ATTACH;FMTTYPE=image/jpeg:https://www.discoversouthkesteven.com/wp-content/uploads/2024/06/b.jpg
END:VEVENT
BEGIN:VEVENT
DTSTART;TZID=Europe/London:20270923T080000
DTEND;TZID=Europe/London:20270923T150000
DTSTAMP:20260420T051336
CREATED:20240612T111736Z
LAST-MODIFIED:20240612T111736Z
UID:10002509-1821686400-1821711600@www.discoversouthkesteven.com
SUMMARY:Bourne Weekly Market
DESCRIPTION:BOURNE MARKET ON THURSDAYS:\nThis small market is held every Thursday in the car park immediately behind the Corn Exchange building. There are a few traders\, both casual and regular.  \nThank you for visiting your local market. Traders and local businesses are incredibly grateful for your support!
URL:https://www.discoversouthkesteven.com/event/bourne-weekly-market/2027-09-23/
LOCATION:Bourne Corn Exchange\, Corn Exchange\, Bourne\, Lincolnshire\, PE10 9EF\, United Kingdom
CATEGORIES:Food and Drink,local events,Market
ATTACH;FMTTYPE=image/jpeg:https://www.discoversouthkesteven.com/wp-content/uploads/2024/06/b.jpg
END:VEVENT
BEGIN:VEVENT
DTSTART;TZID=Europe/London:20270930T080000
DTEND;TZID=Europe/London:20270930T150000
DTSTAMP:20260420T051336
CREATED:20240612T111736Z
LAST-MODIFIED:20240612T111736Z
UID:10002510-1822291200-1822316400@www.discoversouthkesteven.com
SUMMARY:Bourne Weekly Market
DESCRIPTION:BOURNE MARKET ON THURSDAYS:\nThis small market is held every Thursday in the car park immediately behind the Corn Exchange building. There are a few traders\, both casual and regular.  \nThank you for visiting your local market. Traders and local businesses are incredibly grateful for your support!
URL:https://www.discoversouthkesteven.com/event/bourne-weekly-market/2027-09-30/
LOCATION:Bourne Corn Exchange\, Corn Exchange\, Bourne\, Lincolnshire\, PE10 9EF\, United Kingdom
CATEGORIES:Food and Drink,local events,Market
ATTACH;FMTTYPE=image/jpeg:https://www.discoversouthkesteven.com/wp-content/uploads/2024/06/b.jpg
END:VEVENT
BEGIN:VEVENT
DTSTART;TZID=Europe/London:20271007T080000
DTEND;TZID=Europe/London:20271007T150000
DTSTAMP:20260420T051336
CREATED:20240612T111736Z
LAST-MODIFIED:20240612T111736Z
UID:10002511-1822896000-1822921200@www.discoversouthkesteven.com
SUMMARY:Bourne Weekly Market
DESCRIPTION:BOURNE MARKET ON THURSDAYS:\nThis small market is held every Thursday in the car park immediately behind the Corn Exchange building. There are a few traders\, both casual and regular.  \nThank you for visiting your local market. Traders and local businesses are incredibly grateful for your support!
URL:https://www.discoversouthkesteven.com/event/bourne-weekly-market/2027-10-07/
LOCATION:Bourne Corn Exchange\, Corn Exchange\, Bourne\, Lincolnshire\, PE10 9EF\, United Kingdom
CATEGORIES:Food and Drink,local events,Market
ATTACH;FMTTYPE=image/jpeg:https://www.discoversouthkesteven.com/wp-content/uploads/2024/06/b.jpg
END:VEVENT
BEGIN:VEVENT
DTSTART;TZID=Europe/London:20271014T080000
DTEND;TZID=Europe/London:20271014T150000
DTSTAMP:20260420T051336
CREATED:20240612T111736Z
LAST-MODIFIED:20240612T111736Z
UID:10002512-1823500800-1823526000@www.discoversouthkesteven.com
SUMMARY:Bourne Weekly Market
DESCRIPTION:BOURNE MARKET ON THURSDAYS:\nThis small market is held every Thursday in the car park immediately behind the Corn Exchange building. There are a few traders\, both casual and regular.  \nThank you for visiting your local market. Traders and local businesses are incredibly grateful for your support!
URL:https://www.discoversouthkesteven.com/event/bourne-weekly-market/2027-10-14/
LOCATION:Bourne Corn Exchange\, Corn Exchange\, Bourne\, Lincolnshire\, PE10 9EF\, United Kingdom
CATEGORIES:Food and Drink,local events,Market
ATTACH;FMTTYPE=image/jpeg:https://www.discoversouthkesteven.com/wp-content/uploads/2024/06/b.jpg
END:VEVENT
BEGIN:VEVENT
DTSTART;TZID=Europe/London:20271021T080000
DTEND;TZID=Europe/London:20271021T150000
DTSTAMP:20260420T051336
CREATED:20240612T111736Z
LAST-MODIFIED:20240612T111736Z
UID:10002513-1824105600-1824130800@www.discoversouthkesteven.com
SUMMARY:Bourne Weekly Market
DESCRIPTION:BOURNE MARKET ON THURSDAYS:\nThis small market is held every Thursday in the car park immediately behind the Corn Exchange building. There are a few traders\, both casual and regular.  \nThank you for visiting your local market. Traders and local businesses are incredibly grateful for your support!
URL:https://www.discoversouthkesteven.com/event/bourne-weekly-market/2027-10-21/
LOCATION:Bourne Corn Exchange\, Corn Exchange\, Bourne\, Lincolnshire\, PE10 9EF\, United Kingdom
CATEGORIES:Food and Drink,local events,Market
ATTACH;FMTTYPE=image/jpeg:https://www.discoversouthkesteven.com/wp-content/uploads/2024/06/b.jpg
END:VEVENT
BEGIN:VEVENT
DTSTART;TZID=Europe/London:20271028T080000
DTEND;TZID=Europe/London:20271028T150000
DTSTAMP:20260420T051336
CREATED:20240612T111736Z
LAST-MODIFIED:20240612T111736Z
UID:10002514-1824710400-1824735600@www.discoversouthkesteven.com
SUMMARY:Bourne Weekly Market
DESCRIPTION:BOURNE MARKET ON THURSDAYS:\nThis small market is held every Thursday in the car park immediately behind the Corn Exchange building. There are a few traders\, both casual and regular.  \nThank you for visiting your local market. Traders and local businesses are incredibly grateful for your support!
URL:https://www.discoversouthkesteven.com/event/bourne-weekly-market/2027-10-28/
LOCATION:Bourne Corn Exchange\, Corn Exchange\, Bourne\, Lincolnshire\, PE10 9EF\, United Kingdom
CATEGORIES:Food and Drink,local events,Market
ATTACH;FMTTYPE=image/jpeg:https://www.discoversouthkesteven.com/wp-content/uploads/2024/06/b.jpg
END:VEVENT
BEGIN:VEVENT
DTSTART;TZID=Europe/London:20271104T080000
DTEND;TZID=Europe/London:20271104T150000
DTSTAMP:20260420T051336
CREATED:20240612T111736Z
LAST-MODIFIED:20240612T111736Z
UID:10002515-1825315200-1825340400@www.discoversouthkesteven.com
SUMMARY:Bourne Weekly Market
DESCRIPTION:BOURNE MARKET ON THURSDAYS:\nThis small market is held every Thursday in the car park immediately behind the Corn Exchange building. There are a few traders\, both casual and regular.  \nThank you for visiting your local market. Traders and local businesses are incredibly grateful for your support!
URL:https://www.discoversouthkesteven.com/event/bourne-weekly-market/2027-11-04/
LOCATION:Bourne Corn Exchange\, Corn Exchange\, Bourne\, Lincolnshire\, PE10 9EF\, United Kingdom
CATEGORIES:Food and Drink,local events,Market
ATTACH;FMTTYPE=image/jpeg:https://www.discoversouthkesteven.com/wp-content/uploads/2024/06/b.jpg
END:VEVENT
BEGIN:VEVENT
DTSTART;TZID=Europe/London:20271111T080000
DTEND;TZID=Europe/London:20271111T150000
DTSTAMP:20260420T051336
CREATED:20240612T111736Z
LAST-MODIFIED:20240612T111736Z
UID:10002516-1825920000-1825945200@www.discoversouthkesteven.com
SUMMARY:Bourne Weekly Market
DESCRIPTION:BOURNE MARKET ON THURSDAYS:\nThis small market is held every Thursday in the car park immediately behind the Corn Exchange building. There are a few traders\, both casual and regular.  \nThank you for visiting your local market. Traders and local businesses are incredibly grateful for your support!
URL:https://www.discoversouthkesteven.com/event/bourne-weekly-market/2027-11-11/
LOCATION:Bourne Corn Exchange\, Corn Exchange\, Bourne\, Lincolnshire\, PE10 9EF\, United Kingdom
CATEGORIES:Food and Drink,local events,Market
ATTACH;FMTTYPE=image/jpeg:https://www.discoversouthkesteven.com/wp-content/uploads/2024/06/b.jpg
END:VEVENT
BEGIN:VEVENT
DTSTART;TZID=Europe/London:20271118T080000
DTEND;TZID=Europe/London:20271118T150000
DTSTAMP:20260420T051336
CREATED:20240612T111736Z
LAST-MODIFIED:20240612T111736Z
UID:10002517-1826524800-1826550000@www.discoversouthkesteven.com
SUMMARY:Bourne Weekly Market
DESCRIPTION:BOURNE MARKET ON THURSDAYS:\nThis small market is held every Thursday in the car park immediately behind the Corn Exchange building. There are a few traders\, both casual and regular.  \nThank you for visiting your local market. Traders and local businesses are incredibly grateful for your support!
URL:https://www.discoversouthkesteven.com/event/bourne-weekly-market/2027-11-18/
LOCATION:Bourne Corn Exchange\, Corn Exchange\, Bourne\, Lincolnshire\, PE10 9EF\, United Kingdom
CATEGORIES:Food and Drink,local events,Market
ATTACH;FMTTYPE=image/jpeg:https://www.discoversouthkesteven.com/wp-content/uploads/2024/06/b.jpg
END:VEVENT
BEGIN:VEVENT
DTSTART;TZID=Europe/London:20271125T080000
DTEND;TZID=Europe/London:20271125T150000
DTSTAMP:20260420T051336
CREATED:20240612T111736Z
LAST-MODIFIED:20240612T111736Z
UID:10002518-1827129600-1827154800@www.discoversouthkesteven.com
SUMMARY:Bourne Weekly Market
DESCRIPTION:BOURNE MARKET ON THURSDAYS:\nThis small market is held every Thursday in the car park immediately behind the Corn Exchange building. There are a few traders\, both casual and regular.  \nThank you for visiting your local market. Traders and local businesses are incredibly grateful for your support!
URL:https://www.discoversouthkesteven.com/event/bourne-weekly-market/2027-11-25/
LOCATION:Bourne Corn Exchange\, Corn Exchange\, Bourne\, Lincolnshire\, PE10 9EF\, United Kingdom
CATEGORIES:Food and Drink,local events,Market
ATTACH;FMTTYPE=image/jpeg:https://www.discoversouthkesteven.com/wp-content/uploads/2024/06/b.jpg
END:VEVENT
BEGIN:VEVENT
DTSTART;TZID=Europe/London:20271202T080000
DTEND;TZID=Europe/London:20271202T150000
DTSTAMP:20260420T051336
CREATED:20240612T111736Z
LAST-MODIFIED:20240612T111736Z
UID:10002519-1827734400-1827759600@www.discoversouthkesteven.com
SUMMARY:Bourne Weekly Market
DESCRIPTION:BOURNE MARKET ON THURSDAYS:\nThis small market is held every Thursday in the car park immediately behind the Corn Exchange building. There are a few traders\, both casual and regular.  \nThank you for visiting your local market. Traders and local businesses are incredibly grateful for your support!
URL:https://www.discoversouthkesteven.com/event/bourne-weekly-market/2027-12-02/
LOCATION:Bourne Corn Exchange\, Corn Exchange\, Bourne\, Lincolnshire\, PE10 9EF\, United Kingdom
CATEGORIES:Food and Drink,local events,Market
ATTACH;FMTTYPE=image/jpeg:https://www.discoversouthkesteven.com/wp-content/uploads/2024/06/b.jpg
END:VEVENT
BEGIN:VEVENT
DTSTART;TZID=Europe/London:20271209T080000
DTEND;TZID=Europe/London:20271209T150000
DTSTAMP:20260420T051336
CREATED:20240612T111736Z
LAST-MODIFIED:20240612T111736Z
UID:10002520-1828339200-1828364400@www.discoversouthkesteven.com
SUMMARY:Bourne Weekly Market
DESCRIPTION:BOURNE MARKET ON THURSDAYS:\nThis small market is held every Thursday in the car park immediately behind the Corn Exchange building. There are a few traders\, both casual and regular.  \nThank you for visiting your local market. Traders and local businesses are incredibly grateful for your support!
URL:https://www.discoversouthkesteven.com/event/bourne-weekly-market/2027-12-09/
LOCATION:Bourne Corn Exchange\, Corn Exchange\, Bourne\, Lincolnshire\, PE10 9EF\, United Kingdom
CATEGORIES:Food and Drink,local events,Market
ATTACH;FMTTYPE=image/jpeg:https://www.discoversouthkesteven.com/wp-content/uploads/2024/06/b.jpg
END:VEVENT
BEGIN:VEVENT
DTSTART;TZID=Europe/London:20271216T080000
DTEND;TZID=Europe/London:20271216T150000
DTSTAMP:20260420T051336
CREATED:20240612T111736Z
LAST-MODIFIED:20240612T111736Z
UID:10002521-1828944000-1828969200@www.discoversouthkesteven.com
SUMMARY:Bourne Weekly Market
DESCRIPTION:BOURNE MARKET ON THURSDAYS:\nThis small market is held every Thursday in the car park immediately behind the Corn Exchange building. There are a few traders\, both casual and regular.  \nThank you for visiting your local market. Traders and local businesses are incredibly grateful for your support!
URL:https://www.discoversouthkesteven.com/event/bourne-weekly-market/2027-12-16/
LOCATION:Bourne Corn Exchange\, Corn Exchange\, Bourne\, Lincolnshire\, PE10 9EF\, United Kingdom
CATEGORIES:Food and Drink,local events,Market
ATTACH;FMTTYPE=image/jpeg:https://www.discoversouthkesteven.com/wp-content/uploads/2024/06/b.jpg
END:VEVENT
BEGIN:VEVENT
DTSTART;TZID=Europe/London:20271223T080000
DTEND;TZID=Europe/London:20271223T150000
DTSTAMP:20260420T051336
CREATED:20240612T111736Z
LAST-MODIFIED:20240612T111736Z
UID:10002522-1829548800-1829574000@www.discoversouthkesteven.com
SUMMARY:Bourne Weekly Market
DESCRIPTION:BOURNE MARKET ON THURSDAYS:\nThis small market is held every Thursday in the car park immediately behind the Corn Exchange building. There are a few traders\, both casual and regular.  \nThank you for visiting your local market. Traders and local businesses are incredibly grateful for your support!
URL:https://www.discoversouthkesteven.com/event/bourne-weekly-market/2027-12-23/
LOCATION:Bourne Corn Exchange\, Corn Exchange\, Bourne\, Lincolnshire\, PE10 9EF\, United Kingdom
CATEGORIES:Food and Drink,local events,Market
ATTACH;FMTTYPE=image/jpeg:https://www.discoversouthkesteven.com/wp-content/uploads/2024/06/b.jpg
END:VEVENT
BEGIN:VEVENT
DTSTART;TZID=Europe/London:20271230T080000
DTEND;TZID=Europe/London:20271230T150000
DTSTAMP:20260420T051336
CREATED:20240612T111736Z
LAST-MODIFIED:20240612T111736Z
UID:10002523-1830153600-1830178800@www.discoversouthkesteven.com
SUMMARY:Bourne Weekly Market
DESCRIPTION:BOURNE MARKET ON THURSDAYS:\nThis small market is held every Thursday in the car park immediately behind the Corn Exchange building. There are a few traders\, both casual and regular.  \nThank you for visiting your local market. Traders and local businesses are incredibly grateful for your support!
URL:https://www.discoversouthkesteven.com/event/bourne-weekly-market/2027-12-30/
LOCATION:Bourne Corn Exchange\, Corn Exchange\, Bourne\, Lincolnshire\, PE10 9EF\, United Kingdom
CATEGORIES:Food and Drink,local events,Market
ATTACH;FMTTYPE=image/jpeg:https://www.discoversouthkesteven.com/wp-content/uploads/2024/06/b.jpg
END:VEVENT
END:VCALENDAR