BEGIN:VCALENDAR
VERSION:2.0
PRODID:-//Discover South Kesteven - ECPv6.15.11//NONSGML v1.0//EN
CALSCALE:GREGORIAN
METHOD:PUBLISH
X-ORIGINAL-URL:https://www.discoversouthkesteven.com
X-WR-CALDESC:Events for Discover South Kesteven
REFRESH-INTERVAL;VALUE=DURATION:PT1H
X-Robots-Tag:noindex
X-PUBLISHED-TTL:PT1H
BEGIN:VTIMEZONE
TZID:UTC
BEGIN:STANDARD
TZOFFSETFROM:+0000
TZOFFSETTO:+0000
TZNAME:UTC
DTSTART:20230101T000000
END:STANDARD
END:VTIMEZONE
BEGIN:VEVENT
DTSTART;TZID=UTC:20250227T193000
DTEND;TZID=UTC:20250227T213000
DTSTAMP:20260422T085820
CREATED:20240528T181433Z
LAST-MODIFIED:20240827T082601Z
UID:10000281-1740684600-1740691800@www.discoversouthkesteven.com
SUMMARY:Harry Hill: New Bits and Greatest Hits
DESCRIPTION:Booking opens at 11am on Friday 10th May 2024\nThe Badger Parade is back on! \nJoin me on my Diamond Jubilee lap of honour as I celebrate 60 Glorious Years of fun\, laughter and low level disruption! \nMarvel! As I offer new insights into the hot topics of the day such as the demise of the SCART lead\, The Culture Wars\, the differences between crab sticks and rhubarb and the origins of Tirimisu! \nGuffaw with delight! As I delve into my back catalogue using my patented ‘Old Bit Randomiser’ for old favourites like ‘Interspecies Tennis’\, ‘The time I went up in the Space Shuttle’ and ‘When Nan got her hair caught in the knitting’! \nCough Awkwardly! As Gary \,(my son from my first marriage) attempts to take over the business again. \nTap your Feet! As Stouffer The Cat spits a little Steflon Don! \nWatch in Wonder! at the return of The Badger Parade with guest appearances from The Knitted Character and Abu Hamster \nPlus one lucky audience member will get to join me in a double act! \nSO GET ON BOARD THE LAUGHTER TRAIN! \nBooking opens at 11am on Friday 10th May 2024 \nVenue: Guildhall Arts Centre\, Theatre \nTickets: £30 + £1 commission per ticket \nRunning Time: 1 hour 50 mins (including interval) \nSTRICTLY 14+ Likely to be swearing and adult content \n(children younger than this will not be admitted\, even if accompanied by an adult)
URL:https://www.discoversouthkesteven.com/event/harry-hill-new-bits-and-greatest-hits/
LOCATION:Guildhall Theatre\, St Peter's Hill\, Grantham\, NG31 6PZ
CATEGORIES:Comedy
ATTACH;FMTTYPE=image/jpeg:https://www.discoversouthkesteven.com/wp-content/uploads/2024/05/hh-2025-tour-1920x1080-atg-Q9EoYS.tmp_.jpg
END:VEVENT
BEGIN:VEVENT
DTSTART;TZID=UTC:20240706T190000
DTEND;TZID=UTC:20240706T190000
DTSTAMP:20260422T085820
CREATED:20240528T183419Z
LAST-MODIFIED:20240528T183510Z
UID:10000700-1720292400-1720292400@www.discoversouthkesteven.com
SUMMARY:Metamorphosis (Chantry Origins)
DESCRIPTION:Chantry Origins Youth Company Showcase 2024 \nChantry Origins Youth Company present a stunning evening of contemporary\, ballet and modern dance. The young people who make up this talented company are from all over the UK as well as Grantham. \nThe evening’s main feature is a performance of METAMORPHOSIS\, an original contemporary dance piece that is both beautiful and thought-provoking by turn\, as we follow the individual and group evolution of people in a society. \nMETAMORPHOSIS is choreographed by award-winning producers and choreographers Rae Piper and Paul Chantry\, and choreographer Megan Woodfield. \nThe showcase also includes the MOVE IT piece ‘Dear Past Self’ and self-choreographed works by the Origins dancers. \nOrigins Youth Company is part of Chantry School\, which is the official school of the professional company Chantry Dance\, and is proud to showcase the dance artists of the future. \nwww.chantry-school.org
URL:https://www.discoversouthkesteven.com/event/metamorphosis-chantry-origins/
LOCATION:Guildhall Theatre\, St Peter's Hill\, Grantham\, NG31 6PZ
CATEGORIES:Dance
ATTACH;FMTTYPE=image/jpeg:https://www.discoversouthkesteven.com/wp-content/uploads/2024/05/metamorphosis-main-web-image-825-x-440-px-2.jpg
END:VEVENT
BEGIN:VEVENT
DTSTART;TZID=UTC:20240703T183000
DTEND;TZID=UTC:20240703T183000
DTSTAMP:20260422T085820
CREATED:20240520T145558Z
LAST-MODIFIED:20240528T172853Z
UID:10000269-1720031400-1720031400@www.discoversouthkesteven.com
SUMMARY:Annie Jr - Grantham New Youth Theatre
DESCRIPTION:The irrepressible comic strip heroine takes centre stage in one of the world’s best-loved\, award-winning musicals. Based on the popular comic strip and adapted from the Tony Award-winning Best Musical\, with a beloved book and score by Tony Award-winners\, Thomas Meehan\, Charles Strouse and Martin Charnin\, Annie JR. features everyone’s favourite little redhead in her very first adventure. \nWith equal measures of pluck and positivity\, little orphan Annie charms everyone’s hearts despite a next-to-nothing start in 1930s New York City. Annie is determined to find the parents who abandoned her years ago on the doorstep of an orphanage run by the cruel Miss Hannigan. Annie eventually foils Miss Hannigan’s evil machinations\, finding a new home and family in billionaire Oliver Warbucks\, his personal secretary\, Grace Farrell\, and a lovable mutt named Sandy. \nImportant Information \nVenue: Guildhall Arts Centre\, Theatre \nTickets: £10 (£9.50 concessions) \nGrantham New Youth Theatre Juniors
URL:https://www.discoversouthkesteven.com/event/annie-jr-grantham-new-youth-theatre/2024-07-03/
LOCATION:Guildhall Theatre\, St Peter's Hill\, Grantham\, NG31 6PZ
CATEGORIES:Musicals,Series
ATTACH;FMTTYPE=image/png:https://www.discoversouthkesteven.com/wp-content/uploads/2024/05/Annie-JR-poster.png
END:VEVENT
BEGIN:VEVENT
DTSTART;TZID=UTC:20240702T200000
DTEND;TZID=UTC:20240702T200000
DTSTAMP:20260422T085820
CREATED:20240520T144840Z
LAST-MODIFIED:20240528T172607Z
UID:10000695-1719950400-1719950400@www.discoversouthkesteven.com
SUMMARY:13 the Musical - Grantham Youth Theatre
DESCRIPTION:A hilarious\, coming-of-age musical about discovering that “cool” is sometimes where we least expect it. Geek. Poser. Jock. Beauty Queen. Wannabe. These are the labels that can last a lifetime. With an unforgettable rock score from Tony Award-winning composer Jason Robert Brown\, (Parade\, The Last Five Years\, Bridges Of Madison County) 13 is a musical about fitting in – and standing out! \nEvan Goldman is plucked from his fast paced\, preteen New York City life and plopped into a sleepy Indiana town following his parents divorce. Surrounded by an array of simple minded middle school students\, he needs to establish his place in the popularity pecking order. Can he situate himself on a comfortable link of the food chain or will he dangle at the end with the outcasts?!
URL:https://www.discoversouthkesteven.com/event/13-the-musical-grantham-youth-theatre/2024-07-02/
LOCATION:Guildhall Theatre\, St Peter's Hill\, Grantham\, NG31 6PZ
CATEGORIES:Musicals,Series
ATTACH;FMTTYPE=image/png:https://www.discoversouthkesteven.com/wp-content/uploads/2024/05/13-The-Musical-Poster.png
END:VEVENT
BEGIN:VEVENT
DTSTART;TZID=UTC:20240701T200000
DTEND;TZID=UTC:20240701T200000
DTSTAMP:20260422T085820
CREATED:20240520T144840Z
LAST-MODIFIED:20240528T172607Z
UID:10000266-1719864000-1719864000@www.discoversouthkesteven.com
SUMMARY:13 the Musical - Grantham Youth Theatre
DESCRIPTION:A hilarious\, coming-of-age musical about discovering that “cool” is sometimes where we least expect it. Geek. Poser. Jock. Beauty Queen. Wannabe. These are the labels that can last a lifetime. With an unforgettable rock score from Tony Award-winning composer Jason Robert Brown\, (Parade\, The Last Five Years\, Bridges Of Madison County) 13 is a musical about fitting in – and standing out! \nEvan Goldman is plucked from his fast paced\, preteen New York City life and plopped into a sleepy Indiana town following his parents divorce. Surrounded by an array of simple minded middle school students\, he needs to establish his place in the popularity pecking order. Can he situate himself on a comfortable link of the food chain or will he dangle at the end with the outcasts?!
URL:https://www.discoversouthkesteven.com/event/13-the-musical-grantham-youth-theatre/2024-07-01/
LOCATION:Guildhall Theatre\, St Peter's Hill\, Grantham\, NG31 6PZ
CATEGORIES:Musicals,Series
ATTACH;FMTTYPE=image/png:https://www.discoversouthkesteven.com/wp-content/uploads/2024/05/13-The-Musical-Poster.png
END:VEVENT
BEGIN:VEVENT
DTSTART;TZID=UTC:20240628T193000
DTEND;TZID=UTC:20240628T193000
DTSTAMP:20260422T085820
CREATED:20240520T144206Z
LAST-MODIFIED:20240520T144206Z
UID:10000263-1719603000-1719603000@www.discoversouthkesteven.com
SUMMARY:The Monocle
DESCRIPTION:Welcome to The Monocle\, where nothing is impossible! \nThis highly virtuosic contemporary dance performance featuring the voluptuous jazz chanteuse Imogen Banks presents the untold story of Le Monocle\, a secretly notorious lesbian cabaret in 1930s Paris. \nInside The Monocle the air is thick\, warm and wavy with secrets and sensuality. Women laugh loudly\, drink the night away and abandon themselves into smooth and passionate dances. Just for one night\, be our guest at The Monocle and experience the joy of what it feels like to be in a truly safe space. \nThe performance contains scenes of a sensual nature\, adult themes\, partial nudity and reference to chest binding. Age recommendation: 13+ – under 16 accompanied by an adult. The show contains haze and flashing light. \nPress quotes: \n‘Mathieu offers us a gift here: the opportunity to see what it looks like to be free in a safe space’ Helen Redfern – NARC Magazine \n‘The piece is a fascinating interpretation of a historical moment in Europe helping to make subcultures visible’  Tamzin Mackie – Culture North East \nReview from British Theatre Guide: \nTheatre review: The Monocle at Northern Stage (britishtheatreguide.info) \nCreative Team: \nChoreographer: Mathieu Geffré\nAssociate Director: Andrew Gardiner\nPerformers: Alyssa Lisle\, Coralie Calfond\, Imogen Banks\, Jemima Colin\, Natassa Argyropoulou\, Ruth Howard\, Zara Phillips \nOriginal Light Design: Josh Harriette \nComposer: James Keane\nSet and Costumes: Helen Hebert and Nate Gibson\nProduction Manager and Relighter: Rachel Shipp\nCreative Producer: Rachel Jean Birch (Moving Art Management) \nImportant Information \nVenue: Guildhall Arts Centre\, Theatre \nTickets: £10 / £5 under 25s \nRunning time: 1 hour 30 mins (including interval) \nAge Recommendation: 13+ (under 16 accompanied by an adult) \nThe performance contains scenes of a sensual nature\, adult themes\, partial nudity and reference to chest binding.
URL:https://www.discoversouthkesteven.com/event/the-monocle/
LOCATION:Guildhall Theatre\, St Peter's Hill\, Grantham\, NG31 6PZ
CATEGORIES:Dance
ATTACH;FMTTYPE=image/jpeg:https://www.discoversouthkesteven.com/wp-content/uploads/2024/05/The-Monocle-Artwork.jpg
END:VEVENT
BEGIN:VEVENT
DTSTART;TZID=UTC:20240608T193000
DTEND;TZID=UTC:20240608T193000
DTSTAMP:20260422T085820
CREATED:20240520T142611Z
LAST-MODIFIED:20240528T172632Z
UID:10000699-1717875000-1717875000@www.discoversouthkesteven.com
SUMMARY:The Vicar of Dibley 2: Another helping
DESCRIPTION:Grantham Dramatic Society returns to Dibley for another helping of this classic comedy. \nDibley is home to a gaggle of eccentric characters including Geraldine the bombshell vicar with a bob cut\, snooty parish council chairman David Horton\, the endearingly simple verger Alice\, and loveable Hugo – David’s dithering son. No-no-not to mention stammering Jim\, farmer Owen who’s obsessed with his bowels and pedantic secretary Frank. \nWe’ll be sharing three (new to GDS) episodes from the much-loved sitcom\, with plenty of laughs and heart-warming moments. \nImportant Information \nVenue: Guildhall Arts Centre\, Theatre \nTickets: £12 (£10 concessions) \n£10 for groups of 6 or more
URL:https://www.discoversouthkesteven.com/event/the-vicar-of-dibley-2-another-helping/2024-06-08/
LOCATION:Guildhall Theatre\, St Peter's Hill\, Grantham\, NG31 6PZ
CATEGORIES:Comedy,Drama,Series
ATTACH;FMTTYPE=image/png:https://www.discoversouthkesteven.com/wp-content/uploads/2024/05/Vicar-of-Dibley-2-Guildhall.png
END:VEVENT
BEGIN:VEVENT
DTSTART;TZID=UTC:20240607T193000
DTEND;TZID=UTC:20240607T193000
DTSTAMP:20260422T085820
CREATED:20240520T142611Z
LAST-MODIFIED:20240528T172632Z
UID:10000698-1717788600-1717788600@www.discoversouthkesteven.com
SUMMARY:The Vicar of Dibley 2: Another helping
DESCRIPTION:Grantham Dramatic Society returns to Dibley for another helping of this classic comedy. \nDibley is home to a gaggle of eccentric characters including Geraldine the bombshell vicar with a bob cut\, snooty parish council chairman David Horton\, the endearingly simple verger Alice\, and loveable Hugo – David’s dithering son. No-no-not to mention stammering Jim\, farmer Owen who’s obsessed with his bowels and pedantic secretary Frank. \nWe’ll be sharing three (new to GDS) episodes from the much-loved sitcom\, with plenty of laughs and heart-warming moments. \nImportant Information \nVenue: Guildhall Arts Centre\, Theatre \nTickets: £12 (£10 concessions) \n£10 for groups of 6 or more
URL:https://www.discoversouthkesteven.com/event/the-vicar-of-dibley-2-another-helping/2024-06-07/
LOCATION:Guildhall Theatre\, St Peter's Hill\, Grantham\, NG31 6PZ
CATEGORIES:Comedy,Drama,Series
ATTACH;FMTTYPE=image/png:https://www.discoversouthkesteven.com/wp-content/uploads/2024/05/Vicar-of-Dibley-2-Guildhall.png
END:VEVENT
BEGIN:VEVENT
DTSTART;TZID=UTC:20240606T193000
DTEND;TZID=UTC:20240606T193000
DTSTAMP:20260422T085820
CREATED:20240520T142611Z
LAST-MODIFIED:20240528T172632Z
UID:10000697-1717702200-1717702200@www.discoversouthkesteven.com
SUMMARY:The Vicar of Dibley 2: Another helping
DESCRIPTION:Grantham Dramatic Society returns to Dibley for another helping of this classic comedy. \nDibley is home to a gaggle of eccentric characters including Geraldine the bombshell vicar with a bob cut\, snooty parish council chairman David Horton\, the endearingly simple verger Alice\, and loveable Hugo – David’s dithering son. No-no-not to mention stammering Jim\, farmer Owen who’s obsessed with his bowels and pedantic secretary Frank. \nWe’ll be sharing three (new to GDS) episodes from the much-loved sitcom\, with plenty of laughs and heart-warming moments. \nImportant Information \nVenue: Guildhall Arts Centre\, Theatre \nTickets: £12 (£10 concessions) \n£10 for groups of 6 or more
URL:https://www.discoversouthkesteven.com/event/the-vicar-of-dibley-2-another-helping/2024-06-06/
LOCATION:Guildhall Theatre\, St Peter's Hill\, Grantham\, NG31 6PZ
CATEGORIES:Comedy,Drama,Series
ATTACH;FMTTYPE=image/png:https://www.discoversouthkesteven.com/wp-content/uploads/2024/05/Vicar-of-Dibley-2-Guildhall.png
END:VEVENT
BEGIN:VEVENT
DTSTART;TZID=UTC:20240605T193000
DTEND;TZID=UTC:20240605T193000
DTSTAMP:20260422T085820
CREATED:20240520T142611Z
LAST-MODIFIED:20240528T172632Z
UID:10000696-1717615800-1717615800@www.discoversouthkesteven.com
SUMMARY:The Vicar of Dibley 2: Another helping
DESCRIPTION:Grantham Dramatic Society returns to Dibley for another helping of this classic comedy. \nDibley is home to a gaggle of eccentric characters including Geraldine the bombshell vicar with a bob cut\, snooty parish council chairman David Horton\, the endearingly simple verger Alice\, and loveable Hugo – David’s dithering son. No-no-not to mention stammering Jim\, farmer Owen who’s obsessed with his bowels and pedantic secretary Frank. \nWe’ll be sharing three (new to GDS) episodes from the much-loved sitcom\, with plenty of laughs and heart-warming moments. \nImportant Information \nVenue: Guildhall Arts Centre\, Theatre \nTickets: £12 (£10 concessions) \n£10 for groups of 6 or more
URL:https://www.discoversouthkesteven.com/event/the-vicar-of-dibley-2-another-helping/2024-06-05/
LOCATION:Guildhall Theatre\, St Peter's Hill\, Grantham\, NG31 6PZ
CATEGORIES:Comedy,Drama,Series
ATTACH;FMTTYPE=image/png:https://www.discoversouthkesteven.com/wp-content/uploads/2024/05/Vicar-of-Dibley-2-Guildhall.png
END:VEVENT
BEGIN:VEVENT
DTSTART;TZID=UTC:20240531T193000
DTEND;TZID=UTC:20240531T193000
DTSTAMP:20260422T085820
CREATED:20240520T142001Z
LAST-MODIFIED:20240520T155713Z
UID:10000256-1717183800-1717183800@www.discoversouthkesteven.com
SUMMARY:The Nick Ross Orchestra - D Day Concert
DESCRIPTION:A Very Special Concert to mark the 80th anniversary of the D-Day landings along the Normandy coast during World War II \nMany years before the Beatles stepped onto the world’s most famous zebra crossing\, Glenn Miller made his last known recording at London’s Abbey Road Studios on Monday 27th November 1944\, just a few short weeks before he “disappeared” on December 15th of that same year. \nThe lights soften\, the mood settles. An audience waits for that first moment of sound. The Big Band is poised\, relaxed\, but with eyes anxious for the lead. And then\, as if giving body to an echo\, the murmured notes of ‘Moonlight Serenade’… and the night\, it seems\, is suddenly full and timeless. \nThere are those who watch and listen who tap a shy finger to the melodies\, others who follow with a silent foot-beat\, still others who murmur softly through the lyrics\, and those who simply permit a fleeting smile. But common to all are memories. \nRecapture the sounds of a bygone era as the Nick Ross Orchestra presents ‘an unmissable evening of music and song’ – the Classic Big Band Sound of the 1940s & 50s. \nImportant Information \nVenue: Guildhall Arts Centre\, Theatre \nTickets: £27.50 (£25 concessions) \nRunning Time: 2 hour 20 mins (including interval)
URL:https://www.discoversouthkesteven.com/event/the-nick-ross-orchestra-d-day-concert/
LOCATION:Guildhall Theatre\, St Peter's Hill\, Grantham\, NG31 6PZ
CATEGORIES:Music
ATTACH;FMTTYPE=image/png:https://www.discoversouthkesteven.com/wp-content/uploads/2024/05/Grantham-24-Nick-Ross-Orchestra.png
END:VEVENT
BEGIN:VEVENT
DTSTART;TZID=UTC:20240520T080000
DTEND;TZID=UTC:20240520T170000
DTSTAMP:20260422T085820
CREATED:20240520T133143Z
LAST-MODIFIED:20240520T133238Z
UID:10000250-1716192000-1716224400@www.discoversouthkesteven.com
SUMMARY:Pride and Prejudice (Guildhall Arts Centre)
DESCRIPTION:After last year’s tour of ‘Sense and Sensibility’ Hotbuckle are back with their unique style of adaptations of classic novels. The virtuoso company have been entertaining audiences for over twelve years with their inventive interpretations of familiar texts. Previous productions have included\, Great Expectations\, Jane Eyre\, Tess of the D’urbervilles\, Wuthering Heights\, David Copperfield and Les Miserables\, as well as Austen’s Persuasion and Emma. \nHotbuckle are renown for their fast -paced\, multi-role playing adaptations which cross age and gender traditions\, and in their latest offering Hotbuckle invites us to enter the world of The Bennets. From the headstrong Elizabeth Bennet to the proud Mr Darcy\, Hotbuckle’s rich characterisations abound in this latest adaptation by skilled writer Adrian Preater. Full of humour and invention\, this is story-telling at its finest\, as we meet five sisters who deal with marriage\, morality and misconceptions in unique Hotbuckle style. This is Jane Austen as you’ve never experienced her before\, so\, get your tickets and Hotbuckle up\, for the carriage ride of your life! \nImportant Information \nVenue: Guildhall Arts Centre\, Theatre \nTickets: £16 (£15 concessions) \nRunning Time: 2 hours 15 mins (including interval)
URL:https://www.discoversouthkesteven.com/event/pride-and-prejudice-guildhall-arts-centre/
LOCATION:Guildhall Theatre\, St Peter's Hill\, Grantham\, NG31 6PZ
CATEGORIES:Drama
ATTACH;FMTTYPE=image/jpeg:https://www.discoversouthkesteven.com/wp-content/uploads/2024/05/Pride-And-Prejudice-Guildhall.jpg
END:VEVENT
END:VCALENDAR